BEGIN:VCALENDAR
VERSION:2.0
PRODID:-//Sidney Evangelical Free Church - ECPv6.15.20//NONSGML v1.0//EN
CALSCALE:GREGORIAN
METHOD:PUBLISH
X-WR-CALNAME:Sidney Evangelical Free Church
X-ORIGINAL-URL:https://efcsidney.org
X-WR-CALDESC:Events for Sidney Evangelical Free Church
REFRESH-INTERVAL;VALUE=DURATION:PT1H
X-Robots-Tag:noindex
X-PUBLISHED-TTL:PT1H
BEGIN:VTIMEZONE
TZID:America/Denver
BEGIN:DAYLIGHT
TZOFFSETFROM:-0700
TZOFFSETTO:-0600
TZNAME:MDT
DTSTART:20210314T090000
END:DAYLIGHT
BEGIN:STANDARD
TZOFFSETFROM:-0600
TZOFFSETTO:-0700
TZNAME:MST
DTSTART:20211107T080000
END:STANDARD
BEGIN:DAYLIGHT
TZOFFSETFROM:-0700
TZOFFSETTO:-0600
TZNAME:MDT
DTSTART:20220313T090000
END:DAYLIGHT
BEGIN:STANDARD
TZOFFSETFROM:-0600
TZOFFSETTO:-0700
TZNAME:MST
DTSTART:20221106T080000
END:STANDARD
BEGIN:DAYLIGHT
TZOFFSETFROM:-0700
TZOFFSETTO:-0600
TZNAME:MDT
DTSTART:20230312T090000
END:DAYLIGHT
BEGIN:STANDARD
TZOFFSETFROM:-0600
TZOFFSETTO:-0700
TZNAME:MST
DTSTART:20231105T080000
END:STANDARD
END:VTIMEZONE
BEGIN:VEVENT
DTSTART;TZID=America/Denver:20220914T181500
DTEND;TZID=America/Denver:20220914T194500
DTSTAMP:20260424T054553
CREATED:20220912T204946Z
LAST-MODIFIED:20220912T205111Z
UID:6998-1663179300-1663184700@efcsidney.org
SUMMARY:AWANA CLUBS
DESCRIPTION:AWANA stands for:  “Approved Workmen Are Not Ashamed” \n“Do your best to present yourself to God as one approved\, a workman who does not need to be ashamed and who correctly handles the word of truth.” 2 Timothy 2:15 \nCUBBIES: One year prior to kindergarten \nSPARKS: K-2nd Grade \nTRUTH & TRAINING: 3rd-6th Grade
URL:https://efcsidney.org/event/awana-clubs-13/2022-09-14/
LOCATION:Evangelical Free Church of Sidney
END:VEVENT
END:VCALENDAR