BEGIN:VCALENDAR
VERSION:2.0
PRODID:-//Sidney Evangelical Free Church - ECPv6.15.20//NONSGML v1.0//EN
CALSCALE:GREGORIAN
METHOD:PUBLISH
X-ORIGINAL-URL:https://efcsidney.org
X-WR-CALDESC:Events for Sidney Evangelical Free Church
REFRESH-INTERVAL;VALUE=DURATION:PT1H
X-Robots-Tag:noindex
X-PUBLISHED-TTL:PT1H
BEGIN:VTIMEZONE
TZID:America/Denver
BEGIN:DAYLIGHT
TZOFFSETFROM:-0700
TZOFFSETTO:-0600
TZNAME:MDT
DTSTART:20190310T090000
END:DAYLIGHT
BEGIN:STANDARD
TZOFFSETFROM:-0600
TZOFFSETTO:-0700
TZNAME:MST
DTSTART:20191103T080000
END:STANDARD
BEGIN:DAYLIGHT
TZOFFSETFROM:-0700
TZOFFSETTO:-0600
TZNAME:MDT
DTSTART:20200308T090000
END:DAYLIGHT
BEGIN:STANDARD
TZOFFSETFROM:-0600
TZOFFSETTO:-0700
TZNAME:MST
DTSTART:20201101T080000
END:STANDARD
BEGIN:DAYLIGHT
TZOFFSETFROM:-0700
TZOFFSETTO:-0600
TZNAME:MDT
DTSTART:20210314T090000
END:DAYLIGHT
BEGIN:STANDARD
TZOFFSETFROM:-0600
TZOFFSETTO:-0700
TZNAME:MST
DTSTART:20211107T080000
END:STANDARD
END:VTIMEZONE
BEGIN:VEVENT
DTSTART;TZID=America/Denver:20201101T173000
DTEND;TZID=America/Denver:20201101T190000
DTSTAMP:20260425T120229
CREATED:20201029T160922Z
LAST-MODIFIED:20201127T164303Z
UID:5373-1604251800-1604257200@efcsidney.org
SUMMARY:Jr. High Youth Group
DESCRIPTION:
URL:https://efcsidney.org/event/jr-high-youth-group-6/2020-11-01/
LOCATION:Upper Room
END:VEVENT
BEGIN:VEVENT
DTSTART;TZID=America/Denver:20201108T143000
DTEND;TZID=America/Denver:20201108T190000
DTSTAMP:20260425T120229
CREATED:20201029T162040Z
LAST-MODIFIED:20201029T162040Z
UID:5387-1604845800-1604862000@efcsidney.org
SUMMARY:Jr. High Youth Group Leaf Raking
DESCRIPTION:Meet at the Upper Room \nDinner will be provided after raking leaves at the Upper Room
URL:https://efcsidney.org/event/jr-high-youth-group-leaf-raking-3/
LOCATION:Upper Room
END:VEVENT
BEGIN:VEVENT
DTSTART;TZID=America/Denver:20201119T190000
DTEND;TZID=America/Denver:20201119T210000
DTSTAMP:20260425T120229
CREATED:20200915T192047Z
LAST-MODIFIED:20200915T192047Z
UID:5221-1605812400-1605819600@efcsidney.org
SUMMARY:MOPS Kitchen Krafters
DESCRIPTION:
URL:https://efcsidney.org/event/mops-kitchen-krafters-2/
LOCATION:E. Free Family Center Kitchen
END:VEVENT
BEGIN:VEVENT
DTSTART;TZID=America/Denver:20201122T173000
DTEND;TZID=America/Denver:20201122T190000
DTSTAMP:20260425T120229
CREATED:20201029T163145Z
LAST-MODIFIED:20201120T163849Z
UID:5389-1606066200-1606071600@efcsidney.org
SUMMARY:Jr. High Youth Group
DESCRIPTION:
URL:https://efcsidney.org/event/jr-high-youth-group-operation-christmas-child-shopping-trip/
LOCATION:Upper Room
END:VEVENT
BEGIN:VEVENT
DTSTART;TZID=America/Denver:20201125T180000
DTEND;TZID=America/Denver:20201125T203000
DTSTAMP:20260425T120229
CREATED:20200915T192341Z
LAST-MODIFIED:20200915T192341Z
UID:5247-1606327200-1606336200@efcsidney.org
SUMMARY:No Activities
DESCRIPTION:
URL:https://efcsidney.org/event/no-activities-9/
END:VEVENT
END:VCALENDAR