BEGIN:VCALENDAR
VERSION:2.0
PRODID:-//Sidney Evangelical Free Church - ECPv6.15.20//NONSGML v1.0//EN
CALSCALE:GREGORIAN
METHOD:PUBLISH
X-ORIGINAL-URL:https://efcsidney.org
X-WR-CALDESC:Events for Sidney Evangelical Free Church
REFRESH-INTERVAL;VALUE=DURATION:PT1H
X-Robots-Tag:noindex
X-PUBLISHED-TTL:PT1H
BEGIN:VTIMEZONE
TZID:America/Denver
BEGIN:DAYLIGHT
TZOFFSETFROM:-0700
TZOFFSETTO:-0600
TZNAME:MDT
DTSTART:20200308T090000
END:DAYLIGHT
BEGIN:STANDARD
TZOFFSETFROM:-0600
TZOFFSETTO:-0700
TZNAME:MST
DTSTART:20201101T080000
END:STANDARD
BEGIN:DAYLIGHT
TZOFFSETFROM:-0700
TZOFFSETTO:-0600
TZNAME:MDT
DTSTART:20210314T090000
END:DAYLIGHT
BEGIN:STANDARD
TZOFFSETFROM:-0600
TZOFFSETTO:-0700
TZNAME:MST
DTSTART:20211107T080000
END:STANDARD
BEGIN:DAYLIGHT
TZOFFSETFROM:-0700
TZOFFSETTO:-0600
TZNAME:MDT
DTSTART:20220313T090000
END:DAYLIGHT
BEGIN:STANDARD
TZOFFSETFROM:-0600
TZOFFSETTO:-0700
TZNAME:MST
DTSTART:20221106T080000
END:STANDARD
END:VTIMEZONE
BEGIN:VEVENT
DTSTART;TZID=America/Denver:20210110T180000
DTEND;TZID=America/Denver:20210110T190000
DTSTAMP:20260425T090955
CREATED:20210106T174640Z
LAST-MODIFIED:20210204T155846Z
UID:5525-1610301600-1610305200@efcsidney.org
SUMMARY:Prayer Time
DESCRIPTION:
URL:https://efcsidney.org/event/prayer-time-31/2021-01-10/
LOCATION:Church Library
END:VEVENT
BEGIN:VEVENT
DTSTART;TZID=America/Denver:20210112T100000
DTEND;TZID=America/Denver:20210112T113000
DTSTAMP:20260425T090955
CREATED:20210112T173724Z
LAST-MODIFIED:20210112T173724Z
UID:5563-1610445600-1610451000@efcsidney.org
SUMMARY:Ladies Bible Study
DESCRIPTION:
URL:https://efcsidney.org/event/ladies-bible-study-5/2021-01-12/
LOCATION:E-Free Family Center
END:VEVENT
BEGIN:VEVENT
DTSTART;TZID=America/Denver:20210113T181500
DTEND;TZID=America/Denver:20210113T194500
DTSTAMP:20260425T090956
CREATED:20210112T180134Z
LAST-MODIFIED:20210112T180134Z
UID:5629-1610561700-1610567100@efcsidney.org
SUMMARY:AWANA Clubs
DESCRIPTION:Approved Workmen Are Not Ashamed \nCubbies – One year prior to Kindergarten \nSparks – Grades K\, 1st\, 2nd \nTruth & Training – Grades 3rd thru 6th
URL:https://efcsidney.org/event/awana-clubs-11/2021-01-13/
LOCATION:Evangelical Free Church Sanctuary
END:VEVENT
BEGIN:VEVENT
DTSTART;TZID=America/Denver:20210113T190000
DTEND;TZID=America/Denver:20210113T203000
DTSTAMP:20260425T090956
CREATED:20210112T174420Z
LAST-MODIFIED:20210112T174420Z
UID:5625-1610564400-1610569800@efcsidney.org
SUMMARY:Sr. High Youth Group
DESCRIPTION:
URL:https://efcsidney.org/event/sr-high-youth-group-12/
LOCATION:Upper Room
END:VEVENT
BEGIN:VEVENT
DTSTART;TZID=America/Denver:20210115T093000
DTEND;TZID=America/Denver:20210115T110000
DTSTAMP:20260425T090956
CREATED:20210112T173852Z
LAST-MODIFIED:20210112T173852Z
UID:5576-1610703000-1610708400@efcsidney.org
SUMMARY:Ladies Bible Study
DESCRIPTION:Child care provided
URL:https://efcsidney.org/event/ladies-bible-study-6/2021-01-15/
LOCATION:E. Free Family Center
END:VEVENT
BEGIN:VEVENT
DTSTART;TZID=America/Denver:20210120T190000
DTEND;TZID=America/Denver:20210120T203000
DTSTAMP:20260425T090956
CREATED:20201216T155716Z
LAST-MODIFIED:20210112T174258Z
UID:5439-1611169200-1611174600@efcsidney.org
SUMMARY:Jr. & Sr. High Youth Group
DESCRIPTION:
URL:https://efcsidney.org/event/sr-high-youth-group-11/2021-01-20/
LOCATION:Upper Room
END:VEVENT
BEGIN:VEVENT
DTSTART;TZID=America/Denver:20210131T133000
DTEND;TZID=America/Denver:20210131T150000
DTSTAMP:20260425T090956
CREATED:20201216T155304Z
LAST-MODIFIED:20201216T155304Z
UID:5436-1612099800-1612105200@efcsidney.org
SUMMARY:Annual Business Meeting
DESCRIPTION:
URL:https://efcsidney.org/event/annual-business-meeting/
LOCATION:Evangelical Free Church Sanctuary
END:VEVENT
END:VCALENDAR