BEGIN:VCALENDAR
VERSION:2.0
PRODID:-//Sidney Evangelical Free Church - ECPv6.15.20//NONSGML v1.0//EN
CALSCALE:GREGORIAN
METHOD:PUBLISH
X-WR-CALNAME:Sidney Evangelical Free Church
X-ORIGINAL-URL:https://efcsidney.org
X-WR-CALDESC:Events for Sidney Evangelical Free Church
REFRESH-INTERVAL;VALUE=DURATION:PT1H
X-Robots-Tag:noindex
X-PUBLISHED-TTL:PT1H
BEGIN:VTIMEZONE
TZID:America/Denver
BEGIN:DAYLIGHT
TZOFFSETFROM:-0700
TZOFFSETTO:-0600
TZNAME:MDT
DTSTART:20200308T090000
END:DAYLIGHT
BEGIN:STANDARD
TZOFFSETFROM:-0600
TZOFFSETTO:-0700
TZNAME:MST
DTSTART:20201101T080000
END:STANDARD
BEGIN:DAYLIGHT
TZOFFSETFROM:-0700
TZOFFSETTO:-0600
TZNAME:MDT
DTSTART:20210314T090000
END:DAYLIGHT
BEGIN:STANDARD
TZOFFSETFROM:-0600
TZOFFSETTO:-0700
TZNAME:MST
DTSTART:20211107T080000
END:STANDARD
BEGIN:DAYLIGHT
TZOFFSETFROM:-0700
TZOFFSETTO:-0600
TZNAME:MDT
DTSTART:20220313T090000
END:DAYLIGHT
BEGIN:STANDARD
TZOFFSETFROM:-0600
TZOFFSETTO:-0700
TZNAME:MST
DTSTART:20221106T080000
END:STANDARD
END:VTIMEZONE
BEGIN:VEVENT
DTSTART;TZID=America/Denver:20210217T181500
DTEND;TZID=America/Denver:20210217T194500
DTSTAMP:20260425T072546
CREATED:20210112T180246Z
LAST-MODIFIED:20210112T180246Z
UID:5645-1613585700-1613591100@efcsidney.org
SUMMARY:AWANA Bingo Night
DESCRIPTION:
URL:https://efcsidney.org/event/awana-bingo-night/
LOCATION:E-Free Family Center
END:VEVENT
BEGIN:VEVENT
DTSTART;TZID=America/Denver:20210226T090000
DTEND;TZID=America/Denver:20210228T163000
DTSTAMP:20260425T072546
CREATED:20210204T200437Z
LAST-MODIFIED:20210204T200643Z
UID:5759-1614330000-1614529800@efcsidney.org
SUMMARY:Senior High Youth Winter Retreat
DESCRIPTION:We will be meeting at the E-Free Gym at 9:00 a.m. and leave promptly at 9:15 a.m.  Go to sidneyupperroom.com to get a list of items to bring on the trip.
URL:https://efcsidney.org/event/senior-high-youth-winter-retreat/
LOCATION:Table In The Wilderness\, 38 Old Hwy 130\, Centennial\, WY\, 82055
GEO:41.3049636;-106.1477213
X-APPLE-STRUCTURED-LOCATION;VALUE=URI;X-ADDRESS=Table In The Wilderness 38 Old Hwy 130 Centennial WY 82055;X-APPLE-RADIUS=500;X-TITLE=38 Old Hwy 130:geo:-106.1477213,41.3049636
END:VEVENT
END:VCALENDAR