BEGIN:VCALENDAR
VERSION:2.0
PRODID:-//Sidney Evangelical Free Church - ECPv6.15.20//NONSGML v1.0//EN
CALSCALE:GREGORIAN
METHOD:PUBLISH
X-ORIGINAL-URL:https://efcsidney.org
X-WR-CALDESC:Events for Sidney Evangelical Free Church
REFRESH-INTERVAL;VALUE=DURATION:PT1H
X-Robots-Tag:noindex
X-PUBLISHED-TTL:PT1H
BEGIN:VTIMEZONE
TZID:America/Denver
BEGIN:DAYLIGHT
TZOFFSETFROM:-0700
TZOFFSETTO:-0600
TZNAME:MDT
DTSTART:20200308T090000
END:DAYLIGHT
BEGIN:STANDARD
TZOFFSETFROM:-0600
TZOFFSETTO:-0700
TZNAME:MST
DTSTART:20201101T080000
END:STANDARD
BEGIN:DAYLIGHT
TZOFFSETFROM:-0700
TZOFFSETTO:-0600
TZNAME:MDT
DTSTART:20210314T090000
END:DAYLIGHT
BEGIN:STANDARD
TZOFFSETFROM:-0600
TZOFFSETTO:-0700
TZNAME:MST
DTSTART:20211107T080000
END:STANDARD
BEGIN:DAYLIGHT
TZOFFSETFROM:-0700
TZOFFSETTO:-0600
TZNAME:MDT
DTSTART:20220313T090000
END:DAYLIGHT
BEGIN:STANDARD
TZOFFSETFROM:-0600
TZOFFSETTO:-0700
TZNAME:MST
DTSTART:20221106T080000
END:STANDARD
END:VTIMEZONE
BEGIN:VEVENT
DTSTART;TZID=America/Denver:20210901T180000
DTEND;TZID=America/Denver:20210901T200000
DTSTAMP:20260424T210827
CREATED:20210819T171555Z
LAST-MODIFIED:20210819T171555Z
UID:5922-1630519200-1630526400@efcsidney.org
SUMMARY:Awana Leader Meeting & Potluck Dinner
DESCRIPTION:
URL:https://efcsidney.org/event/awana-leader-meeting-potluck-dinner/
LOCATION:E. Free Family Center
END:VEVENT
BEGIN:VEVENT
DTSTART;TZID=America/Denver:20210901T190000
DTEND;TZID=America/Denver:20210901T203000
DTSTAMP:20260424T210827
CREATED:20210819T174100Z
LAST-MODIFIED:20210819T174100Z
UID:5929-1630522800-1630528200@efcsidney.org
SUMMARY:Jr. & Sr. High Youth Group
DESCRIPTION:We will meet at the Church
URL:https://efcsidney.org/event/jr-sr-high-youth-group-2/
LOCATION:Evangelical Free Church Sanctuary
END:VEVENT
BEGIN:VEVENT
DTSTART;TZID=America/Denver:20210908T080000
DTEND;TZID=America/Denver:20210908T170000
DTSTAMP:20260424T210827
CREATED:20210819T174154Z
LAST-MODIFIED:20210819T174154Z
UID:5932-1631088000-1631120400@efcsidney.org
SUMMARY:Jr. & Sr. High Youth Group
DESCRIPTION:We will meet at Church
URL:https://efcsidney.org/event/jr-sr-high-youth-group-3/
LOCATION:Evangelical Free Church Sanctuary
END:VEVENT
BEGIN:VEVENT
DTSTART;TZID=America/Denver:20210908T173000
DTEND;TZID=America/Denver:20210908T183000
DTSTAMP:20260424T210827
CREATED:20210819T171840Z
LAST-MODIFIED:20210819T171840Z
UID:5924-1631122200-1631125800@efcsidney.org
SUMMARY:Awana Registration Night
DESCRIPTION:
URL:https://efcsidney.org/event/awana-registration-night/
LOCATION:E. Free Family Center
END:VEVENT
BEGIN:VEVENT
DTSTART;TZID=America/Denver:20210915T181500
DTEND;TZID=America/Denver:20210915T194500
DTSTAMP:20260424T210827
CREATED:20210819T173923Z
LAST-MODIFIED:20210819T173923Z
UID:5927-1631729700-1631735100@efcsidney.org
SUMMARY:Awana Kick Off
DESCRIPTION:Favorite Baseball Cap Night
URL:https://efcsidney.org/event/awana-kick-off/
LOCATION:Evangelical Free Church Sanctuary
END:VEVENT
BEGIN:VEVENT
DTSTART;TZID=America/Denver:20210915T190000
DTEND;TZID=America/Denver:20210915T203000
DTSTAMP:20260424T210827
CREATED:20210819T174323Z
LAST-MODIFIED:20211118T174430Z
UID:5934-1631732400-1631737800@efcsidney.org
SUMMARY:Jr. & Sr. High Youth Group
DESCRIPTION:
URL:https://efcsidney.org/event/jr-sr-high-youth-group-4/2021-09-15/
LOCATION:Upper Room
END:VEVENT
END:VCALENDAR