BEGIN:VCALENDAR
VERSION:2.0
PRODID:-//Sidney Evangelical Free Church - ECPv6.15.20//NONSGML v1.0//EN
CALSCALE:GREGORIAN
METHOD:PUBLISH
X-ORIGINAL-URL:https://efcsidney.org
X-WR-CALDESC:Events for Sidney Evangelical Free Church
REFRESH-INTERVAL;VALUE=DURATION:PT1H
X-Robots-Tag:noindex
X-PUBLISHED-TTL:PT1H
BEGIN:VTIMEZONE
TZID:America/Denver
BEGIN:DAYLIGHT
TZOFFSETFROM:-0700
TZOFFSETTO:-0600
TZNAME:MDT
DTSTART:20200308T090000
END:DAYLIGHT
BEGIN:STANDARD
TZOFFSETFROM:-0600
TZOFFSETTO:-0700
TZNAME:MST
DTSTART:20201101T080000
END:STANDARD
BEGIN:DAYLIGHT
TZOFFSETFROM:-0700
TZOFFSETTO:-0600
TZNAME:MDT
DTSTART:20210314T090000
END:DAYLIGHT
BEGIN:STANDARD
TZOFFSETFROM:-0600
TZOFFSETTO:-0700
TZNAME:MST
DTSTART:20211107T080000
END:STANDARD
BEGIN:DAYLIGHT
TZOFFSETFROM:-0700
TZOFFSETTO:-0600
TZNAME:MDT
DTSTART:20220313T090000
END:DAYLIGHT
BEGIN:STANDARD
TZOFFSETFROM:-0600
TZOFFSETTO:-0700
TZNAME:MST
DTSTART:20221106T080000
END:STANDARD
END:VTIMEZONE
BEGIN:VEVENT
DTSTART;TZID=America/Denver:20211026T100000
DTEND;TZID=America/Denver:20211026T113000
DTSTAMP:20260424T194311
CREATED:20211025T202056Z
LAST-MODIFIED:20211118T174943Z
UID:6041-1635242400-1635247800@efcsidney.org
SUMMARY:Ladies Bible Study
DESCRIPTION:
URL:https://efcsidney.org/event/ladies-bible-study-7/2021-10-26/
LOCATION:Church Library
END:VEVENT
BEGIN:VEVENT
DTSTART;TZID=America/Denver:20211027T180000
DTEND;TZID=America/Denver:20211027T200000
DTSTAMP:20260424T194311
CREATED:20211025T201058Z
LAST-MODIFIED:20211025T201058Z
UID:6001-1635357600-1635364800@efcsidney.org
SUMMARY:AWANA Pizza & Bingo Night
DESCRIPTION:Join us for a night of fun\, prizes and fellowship. The doors will open at 6:00 p.m.
URL:https://efcsidney.org/event/awana-pizza-bingo-night/
LOCATION:E-Free Gym
END:VEVENT
BEGIN:VEVENT
DTSTART;TZID=America/Denver:20211028T093000
DTEND;TZID=America/Denver:20211028T110000
DTSTAMP:20260424T194311
CREATED:20211025T202546Z
LAST-MODIFIED:20211025T202546Z
UID:6061-1635413400-1635418800@efcsidney.org
SUMMARY:MOPS - Gym Time
DESCRIPTION:Join us for MOPS Gym Time.
URL:https://efcsidney.org/event/mops-gym-time-11/2021-10-28/
LOCATION:E-Free Gym
END:VEVENT
BEGIN:VEVENT
DTSTART;TZID=America/Denver:20211029T093000
DTEND;TZID=America/Denver:20211029T110000
DTSTAMP:20260424T194311
CREATED:20211025T202222Z
LAST-MODIFIED:20211126T213611Z
UID:6052-1635499800-1635505200@efcsidney.org
SUMMARY:Ladies Bible Study
DESCRIPTION:Child care provided
URL:https://efcsidney.org/event/ladies-bible-study-8/2021-10-29/
LOCATION:Church Library
END:VEVENT
BEGIN:VEVENT
DTSTART;TZID=America/Denver:20211031T113000
DTEND;TZID=America/Denver:20211031T140000
DTSTAMP:20260424T194311
CREATED:20211025T195651Z
LAST-MODIFIED:20211025T195651Z
UID:5965-1635679800-1635688800@efcsidney.org
SUMMARY:Quarterly Business Meeting & Potluck Dinner
DESCRIPTION:If you have not signed up on Perfect Potluck\, our potluck is a mexican food themed dinner. \nPotluck Dinner – 11:30 a.m. \nMeeting – 12:45 p.m.
URL:https://efcsidney.org/event/quarterly-business-meeting-potluck-dinner-10/
LOCATION:E-Free Family Center
END:VEVENT
END:VCALENDAR