BEGIN:VCALENDAR
VERSION:2.0
PRODID:-//Sidney Evangelical Free Church - ECPv6.15.20//NONSGML v1.0//EN
CALSCALE:GREGORIAN
METHOD:PUBLISH
X-WR-CALNAME:Sidney Evangelical Free Church
X-ORIGINAL-URL:https://efcsidney.org
X-WR-CALDESC:Events for Sidney Evangelical Free Church
REFRESH-INTERVAL;VALUE=DURATION:PT1H
X-Robots-Tag:noindex
X-PUBLISHED-TTL:PT1H
BEGIN:VTIMEZONE
TZID:America/Denver
BEGIN:DAYLIGHT
TZOFFSETFROM:-0700
TZOFFSETTO:-0600
TZNAME:MDT
DTSTART:20200308T090000
END:DAYLIGHT
BEGIN:STANDARD
TZOFFSETFROM:-0600
TZOFFSETTO:-0700
TZNAME:MST
DTSTART:20201101T080000
END:STANDARD
BEGIN:DAYLIGHT
TZOFFSETFROM:-0700
TZOFFSETTO:-0600
TZNAME:MDT
DTSTART:20210314T090000
END:DAYLIGHT
BEGIN:STANDARD
TZOFFSETFROM:-0600
TZOFFSETTO:-0700
TZNAME:MST
DTSTART:20211107T080000
END:STANDARD
BEGIN:DAYLIGHT
TZOFFSETFROM:-0700
TZOFFSETTO:-0600
TZNAME:MDT
DTSTART:20220313T090000
END:DAYLIGHT
BEGIN:STANDARD
TZOFFSETFROM:-0600
TZOFFSETTO:-0700
TZNAME:MST
DTSTART:20221106T080000
END:STANDARD
END:VTIMEZONE
BEGIN:VEVENT
DTSTART;TZID=America/Denver:20211205T180000
DTEND;TZID=America/Denver:20211205T200000
DTSTAMP:20260424T164019
CREATED:20211126T213342Z
LAST-MODIFIED:20211126T213342Z
UID:6127-1638727200-1638734400@efcsidney.org
SUMMARY:Hanging of the Green
DESCRIPTION:Join us for finger food & fellowship after the program in our Family Center. \nPlease bring your favorite Christmas finger food to share.
URL:https://efcsidney.org/event/hanging-of-the-green-3/
END:VEVENT
BEGIN:VEVENT
DTSTART;TZID=America/Denver:20211213T113000
DTEND;TZID=America/Denver:20211213T150000
DTSTAMP:20260424T164019
CREATED:20211213T215730Z
LAST-MODIFIED:20211213T215730Z
UID:6167-1639395000-1639407600@efcsidney.org
SUMMARY:Annual Meeting and Youth Soup Fundraiser Lunch
DESCRIPTION:Soup Fundraiser will be at 11:30 a.m. following our morning Worship Service \nMeeting will be at 1:00 p.m.
URL:https://efcsidney.org/event/annual-meeting-and-youth-soup-fundraiser-lunch/
LOCATION:E-Free Family Center
END:VEVENT
BEGIN:VEVENT
DTSTART;TZID=America/Denver:20211219T110000
DTEND;TZID=America/Denver:20211219T130000
DTSTAMP:20260424T164019
CREATED:20211118T180045Z
LAST-MODIFIED:20211118T180045Z
UID:6115-1639911600-1639918800@efcsidney.org
SUMMARY:MOPS - Christmas Cookie Walk
DESCRIPTION:Let us do the baking for you! \n$10 per box (all boxes prepackaged) \nProceeds support Sidney MOPS
URL:https://efcsidney.org/event/mops-christmas-cookie-walk-2/
LOCATION:Evangelical Free Church Sanctuary
END:VEVENT
BEGIN:VEVENT
DTSTART;TZID=America/Denver:20211224T163000
DTEND;TZID=America/Denver:20211224T173000
DTSTAMP:20260424T164019
CREATED:20211118T172815Z
LAST-MODIFIED:20211118T172815Z
UID:6090-1640363400-1640367000@efcsidney.org
SUMMARY:Christmas Eve Candlelight Service
DESCRIPTION:
URL:https://efcsidney.org/event/christmas-eve-candlelight-service-7/2021-12-24/
LOCATION:Evangelical Free Church of Sidney
END:VEVENT
END:VCALENDAR