BEGIN:VCALENDAR
VERSION:2.0
PRODID:-//Sidney Evangelical Free Church - ECPv6.15.20//NONSGML v1.0//EN
CALSCALE:GREGORIAN
METHOD:PUBLISH
X-ORIGINAL-URL:https://efcsidney.org
X-WR-CALDESC:Events for Sidney Evangelical Free Church
REFRESH-INTERVAL;VALUE=DURATION:PT1H
X-Robots-Tag:noindex
X-PUBLISHED-TTL:PT1H
BEGIN:VTIMEZONE
TZID:America/Denver
BEGIN:DAYLIGHT
TZOFFSETFROM:-0700
TZOFFSETTO:-0600
TZNAME:MDT
DTSTART:20210314T090000
END:DAYLIGHT
BEGIN:STANDARD
TZOFFSETFROM:-0600
TZOFFSETTO:-0700
TZNAME:MST
DTSTART:20211107T080000
END:STANDARD
BEGIN:DAYLIGHT
TZOFFSETFROM:-0700
TZOFFSETTO:-0600
TZNAME:MDT
DTSTART:20220313T090000
END:DAYLIGHT
BEGIN:STANDARD
TZOFFSETFROM:-0600
TZOFFSETTO:-0700
TZNAME:MST
DTSTART:20221106T080000
END:STANDARD
BEGIN:DAYLIGHT
TZOFFSETFROM:-0700
TZOFFSETTO:-0600
TZNAME:MDT
DTSTART:20230312T090000
END:DAYLIGHT
BEGIN:STANDARD
TZOFFSETFROM:-0600
TZOFFSETTO:-0700
TZNAME:MST
DTSTART:20231105T080000
END:STANDARD
END:VTIMEZONE
BEGIN:VEVENT
DTSTART;TZID=America/Denver:20220130T113000
DTEND;TZID=America/Denver:20220130T123000
DTSTAMP:20260424T150911
CREATED:20220107T010544Z
LAST-MODIFIED:20220107T010544Z
UID:6195-1643542200-1643545800@efcsidney.org
SUMMARY:Annual Youth Soup Fundraiser
DESCRIPTION:
URL:https://efcsidney.org/event/annual-youth-soup-fundraiser/
LOCATION:E-Free Family Center
END:VEVENT
BEGIN:VEVENT
DTSTART;TZID=America/Denver:20220130T130000
DTEND;TZID=America/Denver:20220130T143000
DTSTAMP:20260424T150911
CREATED:20220107T010645Z
LAST-MODIFIED:20220107T010645Z
UID:6197-1643547600-1643553000@efcsidney.org
SUMMARY:Annual Business Meeting
DESCRIPTION:
URL:https://efcsidney.org/event/annual-business-meeting-2/
LOCATION:E-Free Family Center
END:VEVENT
END:VCALENDAR