BEGIN:VCALENDAR
VERSION:2.0
PRODID:-//Sidney Evangelical Free Church - ECPv6.15.20//NONSGML v1.0//EN
CALSCALE:GREGORIAN
METHOD:PUBLISH
X-ORIGINAL-URL:https://efcsidney.org
X-WR-CALDESC:Events for Sidney Evangelical Free Church
REFRESH-INTERVAL;VALUE=DURATION:PT1H
X-Robots-Tag:noindex
X-PUBLISHED-TTL:PT1H
BEGIN:VTIMEZONE
TZID:America/Denver
BEGIN:DAYLIGHT
TZOFFSETFROM:-0700
TZOFFSETTO:-0600
TZNAME:MDT
DTSTART:20210314T090000
END:DAYLIGHT
BEGIN:STANDARD
TZOFFSETFROM:-0600
TZOFFSETTO:-0700
TZNAME:MST
DTSTART:20211107T080000
END:STANDARD
BEGIN:DAYLIGHT
TZOFFSETFROM:-0700
TZOFFSETTO:-0600
TZNAME:MDT
DTSTART:20220313T090000
END:DAYLIGHT
BEGIN:STANDARD
TZOFFSETFROM:-0600
TZOFFSETTO:-0700
TZNAME:MST
DTSTART:20221106T080000
END:STANDARD
BEGIN:DAYLIGHT
TZOFFSETFROM:-0700
TZOFFSETTO:-0600
TZNAME:MDT
DTSTART:20230312T090000
END:DAYLIGHT
BEGIN:STANDARD
TZOFFSETFROM:-0600
TZOFFSETTO:-0700
TZNAME:MST
DTSTART:20231105T080000
END:STANDARD
END:VTIMEZONE
BEGIN:VEVENT
DTSTART;TZID=America/Denver:20220209T190000
DTEND;TZID=America/Denver:20220209T203000
DTSTAMP:20260424T133435
CREATED:20220203T205646Z
LAST-MODIFIED:20220309T170719Z
UID:6237-1644433200-1644438600@efcsidney.org
SUMMARY:Jr. & Sr. High Youth Group
DESCRIPTION:
URL:https://efcsidney.org/event/jr-sr-high-youth-group-5/2022-02-09/
LOCATION:Upper Room
END:VEVENT
BEGIN:VEVENT
DTSTART;TZID=America/Denver:20220219T090000
DTEND;TZID=America/Denver:20220219T150000
DTSTAMP:20260424T133435
CREATED:20220131T213329Z
LAST-MODIFIED:20220131T213329Z
UID:6230-1645261200-1645282800@efcsidney.org
SUMMARY:Mothers & Daughters Day Out
DESCRIPTION:Moms & Daughters (Pre K to 8th grade) \nCome enjoy a day of teaching\, snacks\, crafts\, door prizes and music! \nSpeaker:  Courtney Lee \nRSVP by February 5th with name and number attending.
URL:https://efcsidney.org/event/mothers-daughters-day-out/
LOCATION:E-Free Family Center
END:VEVENT
END:VCALENDAR