BEGIN:VCALENDAR
VERSION:2.0
PRODID:-//Sidney Evangelical Free Church - ECPv6.15.20//NONSGML v1.0//EN
CALSCALE:GREGORIAN
METHOD:PUBLISH
X-WR-CALNAME:Sidney Evangelical Free Church
X-ORIGINAL-URL:https://efcsidney.org
X-WR-CALDESC:Events for Sidney Evangelical Free Church
REFRESH-INTERVAL;VALUE=DURATION:PT1H
X-Robots-Tag:noindex
X-PUBLISHED-TTL:PT1H
BEGIN:VTIMEZONE
TZID:America/Denver
BEGIN:DAYLIGHT
TZOFFSETFROM:-0700
TZOFFSETTO:-0600
TZNAME:MDT
DTSTART:20210314T090000
END:DAYLIGHT
BEGIN:STANDARD
TZOFFSETFROM:-0600
TZOFFSETTO:-0700
TZNAME:MST
DTSTART:20211107T080000
END:STANDARD
BEGIN:DAYLIGHT
TZOFFSETFROM:-0700
TZOFFSETTO:-0600
TZNAME:MDT
DTSTART:20220313T090000
END:DAYLIGHT
BEGIN:STANDARD
TZOFFSETFROM:-0600
TZOFFSETTO:-0700
TZNAME:MST
DTSTART:20221106T080000
END:STANDARD
BEGIN:DAYLIGHT
TZOFFSETFROM:-0700
TZOFFSETTO:-0600
TZNAME:MDT
DTSTART:20230312T090000
END:DAYLIGHT
BEGIN:STANDARD
TZOFFSETFROM:-0600
TZOFFSETTO:-0700
TZNAME:MST
DTSTART:20231105T080000
END:STANDARD
END:VTIMEZONE
BEGIN:VEVENT
DTSTART;TZID=America/Denver:20220309T173000
DTEND;TZID=America/Denver:20220309T203000
DTSTAMP:20260424T120128
CREATED:20220309T170818Z
LAST-MODIFIED:20220309T170818Z
UID:6321-1646847000-1646857800@efcsidney.org
SUMMARY:No Activities tonight due to snow
DESCRIPTION:
URL:https://efcsidney.org/event/no-activities-tonight-due-to-snow/
END:VEVENT
BEGIN:VEVENT
DTSTART;TZID=America/Denver:20220310T180000
DTEND;TZID=America/Denver:20220310T210000
DTSTAMP:20260424T120128
CREATED:20220309T170055Z
LAST-MODIFIED:20220309T170055Z
UID:6303-1646935200-1646946000@efcsidney.org
SUMMARY:Meet & Greet Youth Pastor Candidate
DESCRIPTION:Come meet Dylan and Madison Cline – 6:00 – 7:30 p.m. \nRegular Youth Group 7:30 – 9:00 p.m. \n 
URL:https://efcsidney.org/event/meet-greet-youth-pastor-candidate/
LOCATION:Upper Room
END:VEVENT
BEGIN:VEVENT
DTSTART;TZID=America/Denver:20220312T080000
DTEND;TZID=America/Denver:20220312T100000
DTSTAMP:20260424T120128
CREATED:20220209T164646Z
LAST-MODIFIED:20220209T164646Z
UID:6258-1647072000-1647079200@efcsidney.org
SUMMARY:Men's Breakfast
DESCRIPTION:
URL:https://efcsidney.org/event/mens-breakfast-2/
LOCATION:E-Free Family Center
END:VEVENT
BEGIN:VEVENT
DTSTART;TZID=America/Denver:20220313T113000
DTEND;TZID=America/Denver:20220313T133000
DTSTAMP:20260424T120128
CREATED:20220223T163606Z
LAST-MODIFIED:20220223T163606Z
UID:6269-1647171000-1647178200@efcsidney.org
SUMMARY:Potluck Dinner
DESCRIPTION:Following the Potluck Dinner we will have a Question and Response time with our Youth Pastor Candidate in the Sanctuary.
URL:https://efcsidney.org/event/potluck-dinner/
LOCATION:E-Free Family Center
END:VEVENT
BEGIN:VEVENT
DTSTART;TZID=America/Denver:20220313T130000
DTEND;TZID=America/Denver:20220313T140000
DTSTAMP:20260424T120128
CREATED:20220309T171229Z
LAST-MODIFIED:20220309T171229Z
UID:6323-1647176400-1647180000@efcsidney.org
SUMMARY:Question & Answer with Youth Pastor Candidate
DESCRIPTION:
URL:https://efcsidney.org/event/question-answer-with-youth-pastor-candidate/
LOCATION:Evangelical Free Church Sanctuary
END:VEVENT
END:VCALENDAR