BEGIN:VCALENDAR
VERSION:2.0
PRODID:-//Sidney Evangelical Free Church - ECPv6.15.20//NONSGML v1.0//EN
CALSCALE:GREGORIAN
METHOD:PUBLISH
X-ORIGINAL-URL:https://efcsidney.org
X-WR-CALDESC:Events for Sidney Evangelical Free Church
REFRESH-INTERVAL;VALUE=DURATION:PT1H
X-Robots-Tag:noindex
X-PUBLISHED-TTL:PT1H
BEGIN:VTIMEZONE
TZID:America/Denver
BEGIN:DAYLIGHT
TZOFFSETFROM:-0700
TZOFFSETTO:-0600
TZNAME:MDT
DTSTART:20210314T090000
END:DAYLIGHT
BEGIN:STANDARD
TZOFFSETFROM:-0600
TZOFFSETTO:-0700
TZNAME:MST
DTSTART:20211107T080000
END:STANDARD
BEGIN:DAYLIGHT
TZOFFSETFROM:-0700
TZOFFSETTO:-0600
TZNAME:MDT
DTSTART:20220313T090000
END:DAYLIGHT
BEGIN:STANDARD
TZOFFSETFROM:-0600
TZOFFSETTO:-0700
TZNAME:MST
DTSTART:20221106T080000
END:STANDARD
BEGIN:DAYLIGHT
TZOFFSETFROM:-0700
TZOFFSETTO:-0600
TZNAME:MDT
DTSTART:20230312T090000
END:DAYLIGHT
BEGIN:STANDARD
TZOFFSETFROM:-0600
TZOFFSETTO:-0700
TZNAME:MST
DTSTART:20231105T080000
END:STANDARD
END:VTIMEZONE
BEGIN:VEVENT
DTSTART;TZID=America/Denver:20220403T090000
DTEND;TZID=America/Denver:20220403T120000
DTSTAMP:20260424T101143
CREATED:20220307T175612Z
LAST-MODIFIED:20220307T175612Z
UID:6275-1648976400-1648987200@efcsidney.org
SUMMARY:Pastor Luther Eatman - Bridge of Hope - Kansas City
DESCRIPTION:
URL:https://efcsidney.org/event/pastor-luther-eatman-bridge-of-hope-kansas-city/
LOCATION:Evangelical Free Church of Sidney
END:VEVENT
BEGIN:VEVENT
DTSTART;TZID=America/Denver:20220415T190000
DTEND;TZID=America/Denver:20220415T200000
DTSTAMP:20260424T101143
CREATED:20220329T165655Z
LAST-MODIFIED:20220329T165655Z
UID:6335-1650049200-1650052800@efcsidney.org
SUMMARY:Good Friday Service
DESCRIPTION:
URL:https://efcsidney.org/event/good-friday-service-5/
LOCATION:Evangelical Free Church Sanctuary
END:VEVENT
BEGIN:VEVENT
DTSTART;TZID=America/Denver:20220417T080000
DTEND;TZID=America/Denver:20220417T090000
DTSTAMP:20260424T101143
CREATED:20220329T165806Z
LAST-MODIFIED:20220329T165806Z
UID:6337-1650182400-1650186000@efcsidney.org
SUMMARY:Easter Service
DESCRIPTION:No Sunday School Today
URL:https://efcsidney.org/event/easter-service-3/
LOCATION:Evangelical Free Church of Sidney
END:VEVENT
BEGIN:VEVENT
DTSTART;TZID=America/Denver:20220417T100000
DTEND;TZID=America/Denver:20220417T113000
DTSTAMP:20260424T101143
CREATED:20220329T165951Z
LAST-MODIFIED:20220329T165951Z
UID:6340-1650189600-1650195000@efcsidney.org
SUMMARY:Easter Service
DESCRIPTION:No Sunday School Today
URL:https://efcsidney.org/event/easter-service-4/
LOCATION:Evangelical Free Church of Sidney
END:VEVENT
BEGIN:VEVENT
DTSTART;TZID=America/Denver:20220420T181500
DTEND;TZID=America/Denver:20220420T194500
DTSTAMP:20260424T101143
CREATED:20220307T182630Z
LAST-MODIFIED:20220307T182630Z
UID:6297-1650478500-1650483900@efcsidney.org
SUMMARY:AWANA Clubs Auction/Store
DESCRIPTION:
URL:https://efcsidney.org/event/awana-clubs-auction-store/
END:VEVENT
BEGIN:VEVENT
DTSTART;TZID=America/Denver:20220424T113000
DTEND;TZID=America/Denver:20220424T140000
DTSTAMP:20260424T101143
CREATED:20220329T170339Z
LAST-MODIFIED:20220329T170508Z
UID:6342-1650799800-1650808800@efcsidney.org
SUMMARY:Quarterly Business Meeting & Potluck Dinner
DESCRIPTION:Potluck Dinner will be at 11:30 a.m. \nQuarterly meeting  will start at 12:45 p.m.
URL:https://efcsidney.org/event/quarterly-business-meeting-potluck-dinner-11/
LOCATION:E-Free Family Center
END:VEVENT
BEGIN:VEVENT
DTSTART;TZID=America/Denver:20220427T181500
DTEND;TZID=America/Denver:20220427T194500
DTSTAMP:20260424T101143
CREATED:20220307T183659Z
LAST-MODIFIED:20220307T183659Z
UID:6299-1651083300-1651088700@efcsidney.org
SUMMARY:AWANA Clubs Award & Parents Night
DESCRIPTION:Join us for refreshments in the Family Center following our program.
URL:https://efcsidney.org/event/awana-clubs-award-parents-night/
LOCATION:Evangelical Free Church Sanctuary
END:VEVENT
END:VCALENDAR