BEGIN:VCALENDAR
VERSION:2.0
PRODID:-//Sidney Evangelical Free Church - ECPv6.15.20//NONSGML v1.0//EN
CALSCALE:GREGORIAN
METHOD:PUBLISH
X-ORIGINAL-URL:https://efcsidney.org
X-WR-CALDESC:Events for Sidney Evangelical Free Church
REFRESH-INTERVAL;VALUE=DURATION:PT1H
X-Robots-Tag:noindex
X-PUBLISHED-TTL:PT1H
BEGIN:VTIMEZONE
TZID:America/Denver
BEGIN:DAYLIGHT
TZOFFSETFROM:-0700
TZOFFSETTO:-0600
TZNAME:MDT
DTSTART:20210314T090000
END:DAYLIGHT
BEGIN:STANDARD
TZOFFSETFROM:-0600
TZOFFSETTO:-0700
TZNAME:MST
DTSTART:20211107T080000
END:STANDARD
BEGIN:DAYLIGHT
TZOFFSETFROM:-0700
TZOFFSETTO:-0600
TZNAME:MDT
DTSTART:20220313T090000
END:DAYLIGHT
BEGIN:STANDARD
TZOFFSETFROM:-0600
TZOFFSETTO:-0700
TZNAME:MST
DTSTART:20221106T080000
END:STANDARD
BEGIN:DAYLIGHT
TZOFFSETFROM:-0700
TZOFFSETTO:-0600
TZNAME:MDT
DTSTART:20230312T090000
END:DAYLIGHT
BEGIN:STANDARD
TZOFFSETFROM:-0600
TZOFFSETTO:-0700
TZNAME:MST
DTSTART:20231105T080000
END:STANDARD
END:VTIMEZONE
BEGIN:VEVENT
DTSTART;TZID=America/Denver:20220703T090000
DTEND;TZID=America/Denver:20220703T100000
DTSTAMP:20260424T052130
CREATED:20220525T171828Z
LAST-MODIFIED:20220525T171828Z
UID:6414-1656838800-1656842400@efcsidney.org
SUMMARY:No Sunday School
DESCRIPTION:We will be not be having Sunday School the month of July
URL:https://efcsidney.org/event/no-sunday-school-13/2022-07-03/
END:VEVENT
BEGIN:VEVENT
DTSTART;TZID=America/Denver:20220722T150000
DTEND;TZID=America/Denver:20220722T180000
DTSTAMP:20260424T052130
CREATED:20220629T164355Z
LAST-MODIFIED:20220629T164355Z
UID:6451-1658502000-1658512800@efcsidney.org
SUMMARY:Annual Youth Group Garage Sale
DESCRIPTION:
URL:https://efcsidney.org/event/annual-youth-group-garage-sale-2/
LOCATION:E-Free Gym
END:VEVENT
BEGIN:VEVENT
DTSTART;TZID=America/Denver:20220723T080000
DTEND;TZID=America/Denver:20220723T120000
DTSTAMP:20260424T052130
CREATED:20220629T164233Z
LAST-MODIFIED:20220629T164303Z
UID:6449-1658563200-1658577600@efcsidney.org
SUMMARY:Annual Youth Group Garage Sale
DESCRIPTION:
URL:https://efcsidney.org/event/annual-youth-group-garage-sale/
LOCATION:E-Free Gym
END:VEVENT
BEGIN:VEVENT
DTSTART;TZID=America/Denver:20220731T090000
DTEND;TZID=America/Denver:20220731T094500
DTSTAMP:20260424T052130
CREATED:20220629T164945Z
LAST-MODIFIED:20220629T164945Z
UID:6455-1659258000-1659260700@efcsidney.org
SUMMARY:Baptism Class
DESCRIPTION:If you have not been baptized as a believer\, please seriously consider this opportunity to obey the Lord and make a public confession of your faith in Christ. You must attend a Baptism Class with Pastor Kyle prior to baptism. Parents are welcome to accompany their children who want to be baptized. Sign up in the church office.
URL:https://efcsidney.org/event/baptism-class-6/
LOCATION:Evangelical Free Church of Sidney
END:VEVENT
BEGIN:VEVENT
DTSTART;TZID=America/Denver:20220731T170000
DTEND;TZID=America/Denver:20220731T200000
DTSTAMP:20260424T052130
CREATED:20220721T174943Z
LAST-MODIFIED:20220721T174943Z
UID:6466-1659286800-1659297600@efcsidney.org
SUMMARY:All Church Pool Party
DESCRIPTION:
URL:https://efcsidney.org/event/all-church-pool-party/
LOCATION:Sidney Aquatic Center
END:VEVENT
END:VCALENDAR