BEGIN:VCALENDAR
VERSION:2.0
PRODID:-//Sidney Evangelical Free Church - ECPv6.15.20//NONSGML v1.0//EN
CALSCALE:GREGORIAN
METHOD:PUBLISH
X-WR-CALNAME:Sidney Evangelical Free Church
X-ORIGINAL-URL:https://efcsidney.org
X-WR-CALDESC:Events for Sidney Evangelical Free Church
REFRESH-INTERVAL;VALUE=DURATION:PT1H
X-Robots-Tag:noindex
X-PUBLISHED-TTL:PT1H
BEGIN:VTIMEZONE
TZID:America/Denver
BEGIN:DAYLIGHT
TZOFFSETFROM:-0700
TZOFFSETTO:-0600
TZNAME:MDT
DTSTART:20210314T090000
END:DAYLIGHT
BEGIN:STANDARD
TZOFFSETFROM:-0600
TZOFFSETTO:-0700
TZNAME:MST
DTSTART:20211107T080000
END:STANDARD
BEGIN:DAYLIGHT
TZOFFSETFROM:-0700
TZOFFSETTO:-0600
TZNAME:MDT
DTSTART:20220313T090000
END:DAYLIGHT
BEGIN:STANDARD
TZOFFSETFROM:-0600
TZOFFSETTO:-0700
TZNAME:MST
DTSTART:20221106T080000
END:STANDARD
BEGIN:DAYLIGHT
TZOFFSETFROM:-0700
TZOFFSETTO:-0600
TZNAME:MDT
DTSTART:20230312T090000
END:DAYLIGHT
BEGIN:STANDARD
TZOFFSETFROM:-0600
TZOFFSETTO:-0700
TZNAME:MST
DTSTART:20231105T080000
END:STANDARD
END:VTIMEZONE
BEGIN:VEVENT
DTSTART;TZID=America/Denver:20221015T090000
DTEND;TZID=America/Denver:20221015T120000
DTSTAMP:20260424T002513
CREATED:20221012T153020Z
LAST-MODIFIED:20221012T153020Z
UID:7115-1665824400-1665835200@efcsidney.org
SUMMARY:Ladies Winter Car Care
DESCRIPTION:Single ladies are invited to bring their cars to the Sidney Evangelical Free Church parking lot for a free winter car check – 9:00 a.m. to noon. Our inspection includes: lights\, tires\, oil\, transmission fluid\, battery\, antifreeze\, break fluid\, belts and other items. We will even vacuum your vehicle. No mechanical work will be done. You can help yourself to some coffee and donuts while the inspection is being completed. 
URL:https://efcsidney.org/event/ladies-winter-car-care/
LOCATION:Church Parking Lot
END:VEVENT
BEGIN:VEVENT
DTSTART;TZID=America/Denver:20221026T190000
DTEND;TZID=America/Denver:20221026T210000
DTSTAMP:20260424T002513
CREATED:20220804T200500Z
LAST-MODIFIED:20220912T191129Z
UID:6499-1666810800-1666818000@efcsidney.org
SUMMARY:Sr. High Youth Group
DESCRIPTION:
URL:https://efcsidney.org/event/jr-sr-high-youth-group-8-2022-10-26/2022-10-26/
LOCATION:Upper Room
END:VEVENT
BEGIN:VEVENT
DTSTART;TZID=America/Denver:20221030T113000
DTEND;TZID=America/Denver:20221030T150000
DTSTAMP:20260424T002513
CREATED:20220912T180240Z
LAST-MODIFIED:20220912T180240Z
UID:6924-1667129400-1667142000@efcsidney.org
SUMMARY:Quarterly Business Meeting & Potluck Dinner
DESCRIPTION:11:30 a.m. – Potluck Dinner \n1:00 p.m. – Business Meeting
URL:https://efcsidney.org/event/quarterly-business-meeting-potluck-dinner-12/
LOCATION:E-Free Family Center
END:VEVENT
BEGIN:VEVENT
DTSTART;TZID=America/Denver:20221030T180000
DTEND;TZID=America/Denver:20221030T193000
DTSTAMP:20260424T002513
CREATED:20220912T191357Z
LAST-MODIFIED:20221128T215017Z
UID:6946-1667152800-1667158200@efcsidney.org
SUMMARY:Jr. High Youth Group
DESCRIPTION:
URL:https://efcsidney.org/event/jr-high-youth-group-7/2022-10-30/
LOCATION:Upper Room
END:VEVENT
END:VCALENDAR