BEGIN:VCALENDAR
VERSION:2.0
PRODID:-//Sidney Evangelical Free Church - ECPv6.15.20//NONSGML v1.0//EN
CALSCALE:GREGORIAN
METHOD:PUBLISH
X-WR-CALNAME:Sidney Evangelical Free Church
X-ORIGINAL-URL:https://efcsidney.org
X-WR-CALDESC:Events for Sidney Evangelical Free Church
REFRESH-INTERVAL;VALUE=DURATION:PT1H
X-Robots-Tag:noindex
X-PUBLISHED-TTL:PT1H
BEGIN:VTIMEZONE
TZID:America/Denver
BEGIN:DAYLIGHT
TZOFFSETFROM:-0700
TZOFFSETTO:-0600
TZNAME:MDT
DTSTART:20210314T090000
END:DAYLIGHT
BEGIN:STANDARD
TZOFFSETFROM:-0600
TZOFFSETTO:-0700
TZNAME:MST
DTSTART:20211107T080000
END:STANDARD
BEGIN:DAYLIGHT
TZOFFSETFROM:-0700
TZOFFSETTO:-0600
TZNAME:MDT
DTSTART:20220313T090000
END:DAYLIGHT
BEGIN:STANDARD
TZOFFSETFROM:-0600
TZOFFSETTO:-0700
TZNAME:MST
DTSTART:20221106T080000
END:STANDARD
BEGIN:DAYLIGHT
TZOFFSETFROM:-0700
TZOFFSETTO:-0600
TZNAME:MDT
DTSTART:20230312T090000
END:DAYLIGHT
BEGIN:STANDARD
TZOFFSETFROM:-0600
TZOFFSETTO:-0700
TZNAME:MST
DTSTART:20231105T080000
END:STANDARD
END:VTIMEZONE
BEGIN:VEVENT
DTSTART;TZID=America/Denver:20221114T160000
DTEND;TZID=America/Denver:20221114T170000
DTSTAMP:20260423T224941
CREATED:20221107T211307Z
LAST-MODIFIED:20221107T211307Z
UID:7170-1668441600-1668445200@efcsidney.org
SUMMARY:Operation Christmas Child Collection Week - November 14-21
DESCRIPTION:Times to Drop off your Shoebox \n11/14 – 4:00-6:00 p.m. \n11/15 – 10:00 a.m. – 12:00 p.m. \n11/16 – 5:00 – 8:00 p.m. \n11/17 – 10:00 a.m. – 12:00 p.m. \n11/18 – 10:00 a.m. – 12:00 p.m. \n11/19 – 9:30 a.m. – 12:00 p.m. \n11/20 – 12:00 p.m. – 2:00 p.m. \n11/21 – 8:00 a.m. – 10:00 a.m.
URL:https://efcsidney.org/event/operation-christmas-child-collection-week-november-14-21/
LOCATION:Evangelical Free Church of Sidney
END:VEVENT
BEGIN:VEVENT
DTSTART;TZID=America/Denver:20221120T100000
DTEND;TZID=America/Denver:20221120T113000
DTSTAMP:20260423T224941
CREATED:20221107T205955Z
LAST-MODIFIED:20221107T205955Z
UID:7166-1668938400-1668943800@efcsidney.org
SUMMARY:Thanksgiving Sunday
DESCRIPTION:Once again we invite you to share your personal thanks to God with our Church Family. There will be an opportunity at our service for people to take a minute to publicly offer their thanks to the Lord.
URL:https://efcsidney.org/event/thanksgiving-sunday-3/
LOCATION:Evangelical Free Church of Sidney
END:VEVENT
END:VCALENDAR