BEGIN:VCALENDAR
VERSION:2.0
PRODID:-//Sidney Evangelical Free Church - ECPv6.15.20//NONSGML v1.0//EN
CALSCALE:GREGORIAN
METHOD:PUBLISH
X-WR-CALNAME:Sidney Evangelical Free Church
X-ORIGINAL-URL:https://efcsidney.org
X-WR-CALDESC:Events for Sidney Evangelical Free Church
REFRESH-INTERVAL;VALUE=DURATION:PT1H
X-Robots-Tag:noindex
X-PUBLISHED-TTL:PT1H
BEGIN:VTIMEZONE
TZID:America/Denver
BEGIN:DAYLIGHT
TZOFFSETFROM:-0700
TZOFFSETTO:-0600
TZNAME:MDT
DTSTART:20220313T090000
END:DAYLIGHT
BEGIN:STANDARD
TZOFFSETFROM:-0600
TZOFFSETTO:-0700
TZNAME:MST
DTSTART:20221106T080000
END:STANDARD
BEGIN:DAYLIGHT
TZOFFSETFROM:-0700
TZOFFSETTO:-0600
TZNAME:MDT
DTSTART:20230312T090000
END:DAYLIGHT
BEGIN:STANDARD
TZOFFSETFROM:-0600
TZOFFSETTO:-0700
TZNAME:MST
DTSTART:20231105T080000
END:STANDARD
BEGIN:DAYLIGHT
TZOFFSETFROM:-0700
TZOFFSETTO:-0600
TZNAME:MDT
DTSTART:20240310T090000
END:DAYLIGHT
BEGIN:STANDARD
TZOFFSETFROM:-0600
TZOFFSETTO:-0700
TZNAME:MST
DTSTART:20241103T080000
END:STANDARD
END:VTIMEZONE
BEGIN:VEVENT
DTSTART;TZID=America/Denver:20230407T190000
DTEND;TZID=America/Denver:20230407T200000
DTSTAMP:20260423T140649
CREATED:20230320T191625Z
LAST-MODIFIED:20230320T191625Z
UID:7432-1680894000-1680897600@efcsidney.org
SUMMARY:Good Friday Service
DESCRIPTION:
URL:https://efcsidney.org/event/good-friday-service-6/
LOCATION:Evangelical Free Church Sanctuary
END:VEVENT
BEGIN:VEVENT
DTSTART;TZID=America/Denver:20230409T080000
DTEND;TZID=America/Denver:20230409T090000
DTSTAMP:20260423T140649
CREATED:20230320T191337Z
LAST-MODIFIED:20230320T191337Z
UID:7428-1681027200-1681030800@efcsidney.org
SUMMARY:Easter Service
DESCRIPTION:No Sunday School Today
URL:https://efcsidney.org/event/easter-service-5/
LOCATION:Evangelical Free Church Sanctuary
END:VEVENT
BEGIN:VEVENT
DTSTART;TZID=America/Denver:20230409T100000
DTEND;TZID=America/Denver:20230409T110000
DTSTAMP:20260423T140649
CREATED:20230320T191509Z
LAST-MODIFIED:20230320T191509Z
UID:7430-1681034400-1681038000@efcsidney.org
SUMMARY:Easter Service
DESCRIPTION:A nursery will be provided during this service \nNo Sunday School today
URL:https://efcsidney.org/event/easter-service-6/
LOCATION:Evangelical Free Church Sanctuary
END:VEVENT
BEGIN:VEVENT
DTSTART;TZID=America/Denver:20230426T181500
DTEND;TZID=America/Denver:20230426T194500
DTSTAMP:20260423T140649
CREATED:20230425T171112Z
LAST-MODIFIED:20230425T171112Z
UID:7457-1682532900-1682538300@efcsidney.org
SUMMARY:Awana - Awards & Parents Night
DESCRIPTION:
URL:https://efcsidney.org/event/awana-awards-parents-night-2/
LOCATION:Evangelical Free Church Sanctuary
END:VEVENT
BEGIN:VEVENT
DTSTART;TZID=America/Denver:20230427T120000
DTEND;TZID=America/Denver:20230427T130000
DTSTAMP:20260423T140649
CREATED:20230207T185702Z
LAST-MODIFIED:20230207T185753Z
UID:7392-1682596800-1682600400@efcsidney.org
SUMMARY:Men's Brown Bag
DESCRIPTION:Meets every month on the last Thursday of the month.
URL:https://efcsidney.org/event/mens-brown-bag-3/
END:VEVENT
BEGIN:VEVENT
DTSTART;TZID=America/Denver:20230430T123000
DTEND;TZID=America/Denver:20230430T150000
DTSTAMP:20260423T140649
CREATED:20230425T170943Z
LAST-MODIFIED:20230425T170943Z
UID:7455-1682857800-1682866800@efcsidney.org
SUMMARY:Quarterly Business Meeting & Dessert Fellowship
DESCRIPTION:12:30 p.m.  –  Dessert Fellowship \n1:00 p.m. –  Quarterly Business Meeting
URL:https://efcsidney.org/event/quarterly-business-meeting-dessert-fellowship/
LOCATION:E-Free Family Center
END:VEVENT
END:VCALENDAR