BEGIN:VCALENDAR
VERSION:2.0
PRODID:-//Sidney Evangelical Free Church - ECPv6.15.20//NONSGML v1.0//EN
CALSCALE:GREGORIAN
METHOD:PUBLISH
X-ORIGINAL-URL:https://efcsidney.org
X-WR-CALDESC:Events for Sidney Evangelical Free Church
REFRESH-INTERVAL;VALUE=DURATION:PT1H
X-Robots-Tag:noindex
X-PUBLISHED-TTL:PT1H
BEGIN:VTIMEZONE
TZID:America/Denver
BEGIN:DAYLIGHT
TZOFFSETFROM:-0700
TZOFFSETTO:-0600
TZNAME:MDT
DTSTART:20230312T090000
END:DAYLIGHT
BEGIN:STANDARD
TZOFFSETFROM:-0600
TZOFFSETTO:-0700
TZNAME:MST
DTSTART:20231105T080000
END:STANDARD
BEGIN:DAYLIGHT
TZOFFSETFROM:-0700
TZOFFSETTO:-0600
TZNAME:MDT
DTSTART:20240310T090000
END:DAYLIGHT
BEGIN:STANDARD
TZOFFSETFROM:-0600
TZOFFSETTO:-0700
TZNAME:MST
DTSTART:20241103T080000
END:STANDARD
BEGIN:DAYLIGHT
TZOFFSETFROM:-0700
TZOFFSETTO:-0600
TZNAME:MDT
DTSTART:20250309T090000
END:DAYLIGHT
BEGIN:STANDARD
TZOFFSETFROM:-0600
TZOFFSETTO:-0700
TZNAME:MST
DTSTART:20251102T080000
END:STANDARD
END:VTIMEZONE
BEGIN:VEVENT
DTSTART;TZID=America/Denver:20240124T190000
DTEND;TZID=America/Denver:20240124T210000
DTSTAMP:20260423T000413
CREATED:20240122T215308Z
LAST-MODIFIED:20240319T173846Z
UID:8012-1706122800-1706130000@efcsidney.org
SUMMARY:Sr. High Youth Group
DESCRIPTION:
URL:https://efcsidney.org/event/sr-high-youth-group-17/2024-01-24/
LOCATION:Upper Room
END:VEVENT
BEGIN:VEVENT
DTSTART;TZID=America/Denver:20240128T113000
DTEND;TZID=America/Denver:20240128T130000
DTSTAMP:20260423T000413
CREATED:20240122T213152Z
LAST-MODIFIED:20240122T213152Z
UID:8008-1706441400-1706446800@efcsidney.org
SUMMARY:Annual Youth Group Soup Fundraiser
DESCRIPTION:
URL:https://efcsidney.org/event/annual-youth-group-soup-fundraiser/
LOCATION:E-Free Family Center
END:VEVENT
BEGIN:VEVENT
DTSTART;TZID=America/Denver:20240128T124500
DTEND;TZID=America/Denver:20240128T150000
DTSTAMP:20260423T000413
CREATED:20240122T214818Z
LAST-MODIFIED:20240122T214818Z
UID:8010-1706445900-1706454000@efcsidney.org
SUMMARY:Annual Church Business Meeting
DESCRIPTION:Following the Youth Group Soup Fundraiser
URL:https://efcsidney.org/event/annual-church-business-meeting-2/
LOCATION:E-Free Family Center
END:VEVENT
BEGIN:VEVENT
DTSTART;TZID=America/Denver:20240128T180000
DTEND;TZID=America/Denver:20240128T193000
DTSTAMP:20260423T000413
CREATED:20240122T215624Z
LAST-MODIFIED:20240122T215624Z
UID:8024-1706464800-1706470200@efcsidney.org
SUMMARY:Middle School Youth Group
DESCRIPTION:
URL:https://efcsidney.org/event/middle-school-youth-group-13/
END:VEVENT
END:VCALENDAR