BEGIN:VCALENDAR
VERSION:2.0
PRODID:-//Sidney Evangelical Free Church - ECPv6.15.20//NONSGML v1.0//EN
CALSCALE:GREGORIAN
METHOD:PUBLISH
X-WR-CALNAME:Sidney Evangelical Free Church
X-ORIGINAL-URL:https://efcsidney.org
X-WR-CALDESC:Events for Sidney Evangelical Free Church
REFRESH-INTERVAL;VALUE=DURATION:PT1H
X-Robots-Tag:noindex
X-PUBLISHED-TTL:PT1H
BEGIN:VTIMEZONE
TZID:America/Denver
BEGIN:DAYLIGHT
TZOFFSETFROM:-0700
TZOFFSETTO:-0600
TZNAME:MDT
DTSTART:20230312T090000
END:DAYLIGHT
BEGIN:STANDARD
TZOFFSETFROM:-0600
TZOFFSETTO:-0700
TZNAME:MST
DTSTART:20231105T080000
END:STANDARD
BEGIN:DAYLIGHT
TZOFFSETFROM:-0700
TZOFFSETTO:-0600
TZNAME:MDT
DTSTART:20240310T090000
END:DAYLIGHT
BEGIN:STANDARD
TZOFFSETFROM:-0600
TZOFFSETTO:-0700
TZNAME:MST
DTSTART:20241103T080000
END:STANDARD
BEGIN:DAYLIGHT
TZOFFSETFROM:-0700
TZOFFSETTO:-0600
TZNAME:MDT
DTSTART:20250309T090000
END:DAYLIGHT
BEGIN:STANDARD
TZOFFSETFROM:-0600
TZOFFSETTO:-0700
TZNAME:MST
DTSTART:20251102T080000
END:STANDARD
END:VTIMEZONE
BEGIN:VEVENT
DTSTART;TZID=America/Denver:20241103T180000
DTEND;TZID=America/Denver:20241103T190000
DTSTAMP:20260422T072332
CREATED:20241023T194502Z
LAST-MODIFIED:20241023T194502Z
UID:8535-1730656800-1730660400@efcsidney.org
SUMMARY:Special Prayer Service
DESCRIPTION:Special prayer service for our Nation
URL:https://efcsidney.org/event/special-prayer-service/
LOCATION:Evangelical Free Church Sanctuary
END:VEVENT
BEGIN:VEVENT
DTSTART;TZID=America/Denver:20241110T090000
DTEND;TZID=America/Denver:20241110T120000
DTSTAMP:20260422T072332
CREATED:20241023T194648Z
LAST-MODIFIED:20241023T194648Z
UID:8537-1731229200-1731240000@efcsidney.org
SUMMARY:Pastor Luther Eatman
DESCRIPTION:Bridge of Hope Community Church Kansas City\, KS
URL:https://efcsidney.org/event/pastor-luther-eatman-6/
END:VEVENT
BEGIN:VEVENT
DTSTART;TZID=America/Denver:20241124T100000
DTEND;TZID=America/Denver:20241124T113000
DTSTAMP:20260422T072332
CREATED:20241023T195444Z
LAST-MODIFIED:20241023T195444Z
UID:8543-1732442400-1732447800@efcsidney.org
SUMMARY:Thanksgiving Sunday
DESCRIPTION:We invite you to share your personal thanks to God with our Church Family. There will be an opportuity at our service for people to take a minute to publicly offer their thanks to the Lord.
URL:https://efcsidney.org/event/thanksgiving-sunday-4/
LOCATION:Evangelical Free Church of Sidney
END:VEVENT
BEGIN:VEVENT
DTSTART;TZID=America/Denver:20241127T120000
DTEND;TZID=America/Denver:20241127T210000
DTSTAMP:20260422T072332
CREATED:20241120T213316Z
LAST-MODIFIED:20241120T213316Z
UID:8563-1732708800-1732741200@efcsidney.org
SUMMARY:No Activities
DESCRIPTION:Office will be closed at 12:00 p.m. \nNo Awana Club \nNo Sr. High Youth Group \nNo Men’s Bible Study
URL:https://efcsidney.org/event/no-activities-13/
END:VEVENT
END:VCALENDAR