BEGIN:VCALENDAR
VERSION:2.0
PRODID:-//Sidney Evangelical Free Church - ECPv6.15.20//NONSGML v1.0//EN
CALSCALE:GREGORIAN
METHOD:PUBLISH
X-WR-CALNAME:Sidney Evangelical Free Church
X-ORIGINAL-URL:https://efcsidney.org
X-WR-CALDESC:Events for Sidney Evangelical Free Church
REFRESH-INTERVAL;VALUE=DURATION:PT1H
X-Robots-Tag:noindex
X-PUBLISHED-TTL:PT1H
BEGIN:VTIMEZONE
TZID:America/Denver
BEGIN:DAYLIGHT
TZOFFSETFROM:-0700
TZOFFSETTO:-0600
TZNAME:MDT
DTSTART:20240310T090000
END:DAYLIGHT
BEGIN:STANDARD
TZOFFSETFROM:-0600
TZOFFSETTO:-0700
TZNAME:MST
DTSTART:20241103T080000
END:STANDARD
BEGIN:DAYLIGHT
TZOFFSETFROM:-0700
TZOFFSETTO:-0600
TZNAME:MDT
DTSTART:20250309T090000
END:DAYLIGHT
BEGIN:STANDARD
TZOFFSETFROM:-0600
TZOFFSETTO:-0700
TZNAME:MST
DTSTART:20251102T080000
END:STANDARD
BEGIN:DAYLIGHT
TZOFFSETFROM:-0700
TZOFFSETTO:-0600
TZNAME:MDT
DTSTART:20260308T090000
END:DAYLIGHT
BEGIN:STANDARD
TZOFFSETFROM:-0600
TZOFFSETTO:-0700
TZNAME:MST
DTSTART:20261101T080000
END:STANDARD
END:VTIMEZONE
BEGIN:VEVENT
DTSTART;VALUE=DATE:20250101
DTEND;VALUE=DATE:20250102
DTSTAMP:20260422T042438
CREATED:20241120T213709Z
LAST-MODIFIED:20241218T175550Z
UID:8569-1735689600-1735775999@efcsidney.org
SUMMARY:Happy New Year
DESCRIPTION:
URL:https://efcsidney.org/event/happy-new-year/
END:VEVENT
BEGIN:VEVENT
DTSTART;TZID=America/Denver:20250122T190000
DTEND;TZID=America/Denver:20250122T210000
DTSTAMP:20260422T042438
CREATED:20250114T190125Z
LAST-MODIFIED:20250114T190227Z
UID:8669-1737572400-1737579600@efcsidney.org
SUMMARY:Todd Becker Foundation
DESCRIPTION:Come Hear The Story and be moved
URL:https://efcsidney.org/event/todd-becker-foundation/
LOCATION:Sidney High School
END:VEVENT
BEGIN:VEVENT
DTSTART;TZID=America/Denver:20250126T113000
DTEND;TZID=America/Denver:20250126T150000
DTSTAMP:20260422T042438
CREATED:20241203T185136Z
LAST-MODIFIED:20241203T201536Z
UID:8586-1737891000-1737903600@efcsidney.org
SUMMARY:Annual Church Business Meeting & Youth Soup Fundraiser
DESCRIPTION:Youth Soup Fundraiser will start after our morning worship service at 11:30 AM \nMeeting will begin at 12:45 PM
URL:https://efcsidney.org/event/annual-church-business-meeting-3/
LOCATION:E-Free Family Center
END:VEVENT
END:VCALENDAR