BEGIN:VCALENDAR
VERSION:2.0
PRODID:-//Sidney Evangelical Free Church - ECPv6.15.20//NONSGML v1.0//EN
CALSCALE:GREGORIAN
METHOD:PUBLISH
X-WR-CALNAME:Sidney Evangelical Free Church
X-ORIGINAL-URL:https://efcsidney.org
X-WR-CALDESC:Events for Sidney Evangelical Free Church
REFRESH-INTERVAL;VALUE=DURATION:PT1H
X-Robots-Tag:noindex
X-PUBLISHED-TTL:PT1H
BEGIN:VTIMEZONE
TZID:America/Denver
BEGIN:DAYLIGHT
TZOFFSETFROM:-0700
TZOFFSETTO:-0600
TZNAME:MDT
DTSTART:20240310T090000
END:DAYLIGHT
BEGIN:STANDARD
TZOFFSETFROM:-0600
TZOFFSETTO:-0700
TZNAME:MST
DTSTART:20241103T080000
END:STANDARD
BEGIN:DAYLIGHT
TZOFFSETFROM:-0700
TZOFFSETTO:-0600
TZNAME:MDT
DTSTART:20250309T090000
END:DAYLIGHT
BEGIN:STANDARD
TZOFFSETFROM:-0600
TZOFFSETTO:-0700
TZNAME:MST
DTSTART:20251102T080000
END:STANDARD
BEGIN:DAYLIGHT
TZOFFSETFROM:-0700
TZOFFSETTO:-0600
TZNAME:MDT
DTSTART:20260308T090000
END:DAYLIGHT
BEGIN:STANDARD
TZOFFSETFROM:-0600
TZOFFSETTO:-0700
TZNAME:MST
DTSTART:20261101T080000
END:STANDARD
END:VTIMEZONE
BEGIN:VEVENT
DTSTART;TZID=America/Denver:20250209T160000
DTEND;TZID=America/Denver:20250209T203000
DTSTAMP:20260422T023434
CREATED:20250127T183331Z
LAST-MODIFIED:20250127T183641Z
UID:8683-1739116800-1739133000@efcsidney.org
SUMMARY:All Church Super Bowl Party
DESCRIPTION:Bring snack food to share
URL:https://efcsidney.org/event/all-church-super-bowl-party/
LOCATION:E-Free Family Center
END:VEVENT
BEGIN:VEVENT
DTSTART;TZID=America/Denver:20250223T180000
DTEND;TZID=America/Denver:20250223T190000
DTSTAMP:20260422T023434
CREATED:20250218T190054Z
LAST-MODIFIED:20250218T190054Z
UID:8717-1740333600-1740337200@efcsidney.org
SUMMARY:Prayer Time
DESCRIPTION:
URL:https://efcsidney.org/event/prayer-time-38/2025-02-23/
LOCATION:Church Library
END:VEVENT
BEGIN:VEVENT
DTSTART;TZID=America/Denver:20250223T180000
DTEND;TZID=America/Denver:20250223T193000
DTSTAMP:20260422T023434
CREATED:20250218T184854Z
LAST-MODIFIED:20250218T184854Z
UID:8699-1740333600-1740339000@efcsidney.org
SUMMARY:Middle School Youth Group
DESCRIPTION:
URL:https://efcsidney.org/event/middle-school-youth-group-15/2025-02-23/
LOCATION:Upper Room
END:VEVENT
END:VCALENDAR