BEGIN:VCALENDAR
VERSION:2.0
PRODID:-//Sidney Evangelical Free Church - ECPv6.15.20//NONSGML v1.0//EN
CALSCALE:GREGORIAN
METHOD:PUBLISH
X-WR-CALNAME:Sidney Evangelical Free Church
X-ORIGINAL-URL:https://efcsidney.org
X-WR-CALDESC:Events for Sidney Evangelical Free Church
REFRESH-INTERVAL;VALUE=DURATION:PT1H
X-Robots-Tag:noindex
X-PUBLISHED-TTL:PT1H
BEGIN:VTIMEZONE
TZID:America/Denver
BEGIN:DAYLIGHT
TZOFFSETFROM:-0700
TZOFFSETTO:-0600
TZNAME:MDT
DTSTART:20240310T090000
END:DAYLIGHT
BEGIN:STANDARD
TZOFFSETFROM:-0600
TZOFFSETTO:-0700
TZNAME:MST
DTSTART:20241103T080000
END:STANDARD
BEGIN:DAYLIGHT
TZOFFSETFROM:-0700
TZOFFSETTO:-0600
TZNAME:MDT
DTSTART:20250309T090000
END:DAYLIGHT
BEGIN:STANDARD
TZOFFSETFROM:-0600
TZOFFSETTO:-0700
TZNAME:MST
DTSTART:20251102T080000
END:STANDARD
BEGIN:DAYLIGHT
TZOFFSETFROM:-0700
TZOFFSETTO:-0600
TZNAME:MDT
DTSTART:20260308T090000
END:DAYLIGHT
BEGIN:STANDARD
TZOFFSETFROM:-0600
TZOFFSETTO:-0700
TZNAME:MST
DTSTART:20261101T080000
END:STANDARD
END:VTIMEZONE
BEGIN:VEVENT
DTSTART;TZID=America/Denver:20250504T180000
DTEND;TZID=America/Denver:20250504T190000
DTSTAMP:20260421T215136
CREATED:20250218T190054Z
LAST-MODIFIED:20250218T190054Z
UID:8725-1746381600-1746385200@efcsidney.org
SUMMARY:Prayer Time
DESCRIPTION:
URL:https://efcsidney.org/event/prayer-time-38/2025-05-04/
LOCATION:Church Library
END:VEVENT
BEGIN:VEVENT
DTSTART;TZID=America/Denver:20250504T180000
DTEND;TZID=America/Denver:20250504T193000
DTSTAMP:20260421T215136
CREATED:20250218T184854Z
LAST-MODIFIED:20250218T184854Z
UID:8708-1746381600-1746387000@efcsidney.org
SUMMARY:Middle School Youth Group
DESCRIPTION:
URL:https://efcsidney.org/event/middle-school-youth-group-15/2025-05-04/
LOCATION:Upper Room
END:VEVENT
BEGIN:VEVENT
DTSTART;TZID=America/Denver:20250507T190000
DTEND;TZID=America/Denver:20250507T210000
DTSTAMP:20260421T215136
CREATED:20240828T164253Z
LAST-MODIFIED:20250114T185536Z
UID:8452-1746644400-1746651600@efcsidney.org
SUMMARY:High School Youth Group
DESCRIPTION:
URL:https://efcsidney.org/event/high-school-youth-group-16/2025-05-07/
END:VEVENT
BEGIN:VEVENT
DTSTART;TZID=America/Denver:20250511T180000
DTEND;TZID=America/Denver:20250511T193000
DTSTAMP:20260421T215136
CREATED:20250218T184854Z
LAST-MODIFIED:20250218T184854Z
UID:8709-1746986400-1746991800@efcsidney.org
SUMMARY:Middle School Youth Group
DESCRIPTION:
URL:https://efcsidney.org/event/middle-school-youth-group-15/2025-05-11/
LOCATION:Upper Room
END:VEVENT
BEGIN:VEVENT
DTSTART;TZID=America/Denver:20250514T190000
DTEND;TZID=America/Denver:20250514T210000
DTSTAMP:20260421T215136
CREATED:20240828T164253Z
LAST-MODIFIED:20250114T185536Z
UID:8453-1747249200-1747256400@efcsidney.org
SUMMARY:High School Youth Group
DESCRIPTION:
URL:https://efcsidney.org/event/high-school-youth-group-16/2025-05-14/
END:VEVENT
BEGIN:VEVENT
DTSTART;TZID=America/Denver:20250518T180000
DTEND;TZID=America/Denver:20250518T193000
DTSTAMP:20260421T215136
CREATED:20250218T184854Z
LAST-MODIFIED:20250218T184854Z
UID:8711-1747591200-1747596600@efcsidney.org
SUMMARY:Middle School Youth Group
DESCRIPTION:
URL:https://efcsidney.org/event/middle-school-youth-group-15/2025-05-18/
LOCATION:Upper Room
END:VEVENT
BEGIN:VEVENT
DTSTART;TZID=America/Denver:20250521T190000
DTEND;TZID=America/Denver:20250521T210000
DTSTAMP:20260421T215136
CREATED:20240828T164253Z
LAST-MODIFIED:20250114T185536Z
UID:8454-1747854000-1747861200@efcsidney.org
SUMMARY:High School Youth Group
DESCRIPTION:
URL:https://efcsidney.org/event/high-school-youth-group-16/2025-05-21/
END:VEVENT
BEGIN:VEVENT
DTSTART;TZID=America/Denver:20250525T100000
DTEND;TZID=America/Denver:20250525T113000
DTSTAMP:20260421T215136
CREATED:20250521T174855Z
LAST-MODIFIED:20260311T231427Z
UID:8850-1748167200-1748172600@efcsidney.org
SUMMARY:Worship Service
DESCRIPTION:
URL:https://efcsidney.org/event/worship-service-3/2025-05-25/
LOCATION:Evangelical Free Church of Sidney
END:VEVENT
BEGIN:VEVENT
DTSTART;TZID=America/Denver:20250529T100000
DTEND;TZID=America/Denver:20250529T230000
DTSTAMP:20260421T215136
CREATED:20250521T180225Z
LAST-MODIFIED:20250521T180225Z
UID:8892-1748512800-1748559600@efcsidney.org
SUMMARY:Operation Christmas Child Testimony
DESCRIPTION:Come and hear how these simple gifts sent from far away became a specific answer to prayer.
URL:https://efcsidney.org/event/operation-christmas-child-testimony/
LOCATION:Evangelical Free Church Sanctuary
END:VEVENT
END:VCALENDAR