BEGIN:VCALENDAR
VERSION:2.0
PRODID:-//Sidney Evangelical Free Church - ECPv6.15.20//NONSGML v1.0//EN
CALSCALE:GREGORIAN
METHOD:PUBLISH
X-ORIGINAL-URL:https://efcsidney.org
X-WR-CALDESC:Events for Sidney Evangelical Free Church
REFRESH-INTERVAL;VALUE=DURATION:PT1H
X-Robots-Tag:noindex
X-PUBLISHED-TTL:PT1H
BEGIN:VTIMEZONE
TZID:America/Denver
BEGIN:DAYLIGHT
TZOFFSETFROM:-0700
TZOFFSETTO:-0600
TZNAME:MDT
DTSTART:20240310T090000
END:DAYLIGHT
BEGIN:STANDARD
TZOFFSETFROM:-0600
TZOFFSETTO:-0700
TZNAME:MST
DTSTART:20241103T080000
END:STANDARD
BEGIN:DAYLIGHT
TZOFFSETFROM:-0700
TZOFFSETTO:-0600
TZNAME:MDT
DTSTART:20250309T090000
END:DAYLIGHT
BEGIN:STANDARD
TZOFFSETFROM:-0600
TZOFFSETTO:-0700
TZNAME:MST
DTSTART:20251102T080000
END:STANDARD
BEGIN:DAYLIGHT
TZOFFSETFROM:-0700
TZOFFSETTO:-0600
TZNAME:MDT
DTSTART:20260308T090000
END:DAYLIGHT
BEGIN:STANDARD
TZOFFSETFROM:-0600
TZOFFSETTO:-0700
TZNAME:MST
DTSTART:20261101T080000
END:STANDARD
END:VTIMEZONE
BEGIN:VEVENT
DTSTART;TZID=America/Denver:20250803T100000
DTEND;TZID=America/Denver:20250803T113000
DTSTAMP:20260421T165742
CREATED:20250521T174855Z
LAST-MODIFIED:20260311T231431Z
UID:8860-1754215200-1754220600@efcsidney.org
SUMMARY:Worship Service
DESCRIPTION:
URL:https://efcsidney.org/event/worship-service-3/2025-08-03/
LOCATION:Evangelical Free Church of Sidney
END:VEVENT
BEGIN:VEVENT
DTSTART;TZID=America/Denver:20250803T180000
DTEND;TZID=America/Denver:20250803T190000
DTSTAMP:20260421T165742
CREATED:20250521T174417Z
LAST-MODIFIED:20250812T161002Z
UID:8835-1754244000-1754247600@efcsidney.org
SUMMARY:Prayer Time
DESCRIPTION:
URL:https://efcsidney.org/event/prayer-time-39/2025-08-03/
LOCATION:Church Library
END:VEVENT
BEGIN:VEVENT
DTSTART;TZID=America/Denver:20250810T100000
DTEND;TZID=America/Denver:20250810T113000
DTSTAMP:20260421T165742
CREATED:20250521T174855Z
LAST-MODIFIED:20260311T231431Z
UID:8862-1754820000-1754825400@efcsidney.org
SUMMARY:Worship Service
DESCRIPTION:
URL:https://efcsidney.org/event/worship-service-3/2025-08-10/
LOCATION:Evangelical Free Church of Sidney
END:VEVENT
BEGIN:VEVENT
DTSTART;TZID=America/Denver:20250810T180000
DTEND;TZID=America/Denver:20250810T190000
DTSTAMP:20260421T165742
CREATED:20250521T174417Z
LAST-MODIFIED:20250812T161002Z
UID:8836-1754848800-1754852400@efcsidney.org
SUMMARY:Prayer Time
DESCRIPTION:
URL:https://efcsidney.org/event/prayer-time-39/2025-08-10/
LOCATION:Church Library
END:VEVENT
BEGIN:VEVENT
DTSTART;TZID=America/Denver:20250817T100000
DTEND;TZID=America/Denver:20250817T113000
DTSTAMP:20260421T165742
CREATED:20250521T174855Z
LAST-MODIFIED:20260311T231431Z
UID:8863-1755424800-1755430200@efcsidney.org
SUMMARY:Worship Service
DESCRIPTION:
URL:https://efcsidney.org/event/worship-service-3/2025-08-17/
LOCATION:Evangelical Free Church of Sidney
END:VEVENT
BEGIN:VEVENT
DTSTART;TZID=America/Denver:20250817T153000
DTEND;TZID=America/Denver:20250817T170000
DTSTAMP:20260421T165742
CREATED:20250812T161643Z
LAST-MODIFIED:20250812T163430Z
UID:8984-1755444600-1755450000@efcsidney.org
SUMMARY:Baptism Service
DESCRIPTION:We will have a potluck cookout fellowship following the baptism service. Bring hamburgers or hot dogs\, buns and a side dish and dessert to share. Bring your own drinks and lawn chairs. A large grill and table service will be provided. You will need a one-day park sticker to enter the park. You can purchase permits online at https://outdoornebraska.gov.
URL:https://efcsidney.org/event/baptism-service-3/
LOCATION:Bridgeport Lake\, Bridgeport\, NE
GEO:41.6652507;-103.1018755
END:VEVENT
BEGIN:VEVENT
DTSTART;TZID=America/Denver:20250824T100000
DTEND;TZID=America/Denver:20250824T113000
DTSTAMP:20260421T165742
CREATED:20250521T174855Z
LAST-MODIFIED:20260311T231431Z
UID:8864-1756029600-1756035000@efcsidney.org
SUMMARY:Worship Service
DESCRIPTION:
URL:https://efcsidney.org/event/worship-service-3/2025-08-24/
LOCATION:Evangelical Free Church of Sidney
END:VEVENT
BEGIN:VEVENT
DTSTART;TZID=America/Denver:20250831T100000
DTEND;TZID=America/Denver:20250831T113000
DTSTAMP:20260421T165742
CREATED:20250521T174855Z
LAST-MODIFIED:20260311T231431Z
UID:8865-1756634400-1756639800@efcsidney.org
SUMMARY:Worship Service
DESCRIPTION:
URL:https://efcsidney.org/event/worship-service-3/2025-08-31/
LOCATION:Evangelical Free Church of Sidney
END:VEVENT
END:VCALENDAR