BEGIN:VCALENDAR
VERSION:2.0
PRODID:-//Sidney Evangelical Free Church - ECPv6.15.20//NONSGML v1.0//EN
CALSCALE:GREGORIAN
METHOD:PUBLISH
X-ORIGINAL-URL:https://efcsidney.org
X-WR-CALDESC:Events for Sidney Evangelical Free Church
REFRESH-INTERVAL;VALUE=DURATION:PT1H
X-Robots-Tag:noindex
X-PUBLISHED-TTL:PT1H
BEGIN:VTIMEZONE
TZID:America/Denver
BEGIN:DAYLIGHT
TZOFFSETFROM:-0700
TZOFFSETTO:-0600
TZNAME:MDT
DTSTART:20240310T090000
END:DAYLIGHT
BEGIN:STANDARD
TZOFFSETFROM:-0600
TZOFFSETTO:-0700
TZNAME:MST
DTSTART:20241103T080000
END:STANDARD
BEGIN:DAYLIGHT
TZOFFSETFROM:-0700
TZOFFSETTO:-0600
TZNAME:MDT
DTSTART:20250309T090000
END:DAYLIGHT
BEGIN:STANDARD
TZOFFSETFROM:-0600
TZOFFSETTO:-0700
TZNAME:MST
DTSTART:20251102T080000
END:STANDARD
BEGIN:DAYLIGHT
TZOFFSETFROM:-0700
TZOFFSETTO:-0600
TZNAME:MDT
DTSTART:20260308T090000
END:DAYLIGHT
BEGIN:STANDARD
TZOFFSETFROM:-0600
TZOFFSETTO:-0700
TZNAME:MST
DTSTART:20261101T080000
END:STANDARD
END:VTIMEZONE
BEGIN:VEVENT
DTSTART;TZID=America/Denver:20251001T181500
DTEND;TZID=America/Denver:20251001T194500
DTSTAMP:20260421T134502
CREATED:20250911T161422Z
LAST-MODIFIED:20250911T161717Z
UID:9072-1759342500-1759347900@efcsidney.org
SUMMARY:Awana Clubs
DESCRIPTION:Weekly Bible Club for boys & girls Pre K – 6th Grade \nAWANA stands for “Approved workmen are not ashamed” \n“Do your best to present yourself to God as one approved\, a workman who does not need to be ashamed and who correctly handles the word of truth.” 2 Timothy 2:15 \nCubbies: One year prior to Kindergarten \nSparks: Grades K\, 1st & 2nd \nTruth & Training: Grades 3rd thru 6th
URL:https://efcsidney.org/event/awana-clubs-16/2025-10-01/
END:VEVENT
BEGIN:VEVENT
DTSTART;TZID=America/Denver:20251001T190000
DTEND;TZID=America/Denver:20251001T210000
DTSTAMP:20260421T134502
CREATED:20250911T152017Z
LAST-MODIFIED:20250911T152017Z
UID:9045-1759345200-1759352400@efcsidney.org
SUMMARY:High School Youth Group
DESCRIPTION:
URL:https://efcsidney.org/event/high-school-youth-group-17/2025-10-01/
LOCATION:Upper Room
END:VEVENT
BEGIN:VEVENT
DTSTART;TZID=America/Denver:20251005T100000
DTEND;TZID=America/Denver:20251005T113000
DTSTAMP:20260421T134502
CREATED:20250521T174855Z
LAST-MODIFIED:20260311T231432Z
UID:8870-1759658400-1759663800@efcsidney.org
SUMMARY:Worship Service
DESCRIPTION:
URL:https://efcsidney.org/event/worship-service-3/2025-10-05/
LOCATION:Evangelical Free Church of Sidney
END:VEVENT
BEGIN:VEVENT
DTSTART;TZID=America/Denver:20251005T180000
DTEND;TZID=America/Denver:20251005T193000
DTSTAMP:20260421T134502
CREATED:20250911T151907Z
LAST-MODIFIED:20251223T210722Z
UID:9029-1759687200-1759692600@efcsidney.org
SUMMARY:Middle School Youth Group
DESCRIPTION:
URL:https://efcsidney.org/event/middle-school-youth-group-18/2025-10-05/
LOCATION:Upper Room
END:VEVENT
BEGIN:VEVENT
DTSTART;TZID=America/Denver:20251006T173000
DTEND;TZID=America/Denver:20251006T203000
DTSTAMP:20260421T134502
CREATED:20250911T164032Z
LAST-MODIFIED:20260127T171157Z
UID:9138-1759771800-1759782600@efcsidney.org
SUMMARY:Celebrate Recovery
DESCRIPTION:Celebrate Recovery – A Place for Healing and Hope \nJoin us for a free-will dinner and a powerful evening of community\, worship\, and healing. Celebrate Recovery is a Christ-centered recovery ministry for anyone dealing with hurts\, habits\, or hang-ups – and it’s open to everyone.
URL:https://efcsidney.org/event/celebrate-recovery/2025-10-06/
END:VEVENT
BEGIN:VEVENT
DTSTART;TZID=America/Denver:20251008T181500
DTEND;TZID=America/Denver:20251008T194500
DTSTAMP:20260421T134502
CREATED:20250911T161422Z
LAST-MODIFIED:20250911T161717Z
UID:9073-1759947300-1759952700@efcsidney.org
SUMMARY:Awana Clubs
DESCRIPTION:Weekly Bible Club for boys & girls Pre K – 6th Grade \nAWANA stands for “Approved workmen are not ashamed” \n“Do your best to present yourself to God as one approved\, a workman who does not need to be ashamed and who correctly handles the word of truth.” 2 Timothy 2:15 \nCubbies: One year prior to Kindergarten \nSparks: Grades K\, 1st & 2nd \nTruth & Training: Grades 3rd thru 6th
URL:https://efcsidney.org/event/awana-clubs-16/2025-10-08/
END:VEVENT
BEGIN:VEVENT
DTSTART;TZID=America/Denver:20251008T190000
DTEND;TZID=America/Denver:20251008T210000
DTSTAMP:20260421T134502
CREATED:20250911T152017Z
LAST-MODIFIED:20250911T152017Z
UID:9046-1759950000-1759957200@efcsidney.org
SUMMARY:High School Youth Group
DESCRIPTION:
URL:https://efcsidney.org/event/high-school-youth-group-17/2025-10-08/
LOCATION:Upper Room
END:VEVENT
BEGIN:VEVENT
DTSTART;TZID=America/Denver:20251012T100000
DTEND;TZID=America/Denver:20251012T113000
DTSTAMP:20260421T134502
CREATED:20250521T174855Z
LAST-MODIFIED:20260311T231432Z
UID:8871-1760263200-1760268600@efcsidney.org
SUMMARY:Worship Service
DESCRIPTION:
URL:https://efcsidney.org/event/worship-service-3/2025-10-12/
LOCATION:Evangelical Free Church of Sidney
END:VEVENT
BEGIN:VEVENT
DTSTART;TZID=America/Denver:20251012T180000
DTEND;TZID=America/Denver:20251012T193000
DTSTAMP:20260421T134502
CREATED:20250911T151907Z
LAST-MODIFIED:20251223T210722Z
UID:9030-1760292000-1760297400@efcsidney.org
SUMMARY:Middle School Youth Group
DESCRIPTION:
URL:https://efcsidney.org/event/middle-school-youth-group-18/2025-10-12/
LOCATION:Upper Room
END:VEVENT
BEGIN:VEVENT
DTSTART;TZID=America/Denver:20251013T173000
DTEND;TZID=America/Denver:20251013T203000
DTSTAMP:20260421T134502
CREATED:20250911T164032Z
LAST-MODIFIED:20260127T171157Z
UID:9139-1760376600-1760387400@efcsidney.org
SUMMARY:Celebrate Recovery
DESCRIPTION:Celebrate Recovery – A Place for Healing and Hope \nJoin us for a free-will dinner and a powerful evening of community\, worship\, and healing. Celebrate Recovery is a Christ-centered recovery ministry for anyone dealing with hurts\, habits\, or hang-ups – and it’s open to everyone.
URL:https://efcsidney.org/event/celebrate-recovery/2025-10-13/
END:VEVENT
BEGIN:VEVENT
DTSTART;TZID=America/Denver:20251015T181500
DTEND;TZID=America/Denver:20251015T194500
DTSTAMP:20260421T134502
CREATED:20250911T161422Z
LAST-MODIFIED:20250911T161717Z
UID:9074-1760552100-1760557500@efcsidney.org
SUMMARY:Awana Clubs
DESCRIPTION:Weekly Bible Club for boys & girls Pre K – 6th Grade \nAWANA stands for “Approved workmen are not ashamed” \n“Do your best to present yourself to God as one approved\, a workman who does not need to be ashamed and who correctly handles the word of truth.” 2 Timothy 2:15 \nCubbies: One year prior to Kindergarten \nSparks: Grades K\, 1st & 2nd \nTruth & Training: Grades 3rd thru 6th
URL:https://efcsidney.org/event/awana-clubs-16/2025-10-15/
END:VEVENT
BEGIN:VEVENT
DTSTART;TZID=America/Denver:20251015T190000
DTEND;TZID=America/Denver:20251015T210000
DTSTAMP:20260421T134502
CREATED:20250911T152017Z
LAST-MODIFIED:20250911T152017Z
UID:9047-1760554800-1760562000@efcsidney.org
SUMMARY:High School Youth Group
DESCRIPTION:
URL:https://efcsidney.org/event/high-school-youth-group-17/2025-10-15/
LOCATION:Upper Room
END:VEVENT
BEGIN:VEVENT
DTSTART;TZID=America/Denver:20251017T183000
DTEND;TZID=America/Denver:20251017T203000
DTSTAMP:20260421T134502
CREATED:20250911T153524Z
LAST-MODIFIED:20250911T153939Z
UID:9058-1760725800-1760733000@efcsidney.org
SUMMARY:Marriage Conference
DESCRIPTION:Join us for : A Marriage Conference centered around the book of Ruth with Roger & Brenda Daum \nEvery living person has four basic needs they are trying to meet in a variety of ways. If these needs are not met through a meaningful relationship with God and healthy relationships with others it results in emptiness. \nFriday: 6:30 – 8:30 pm \nSaturday: 9am – 3 pm – Lunch provided \nFree child care will be available. A Love Offering will be taken during the event \n 
URL:https://efcsidney.org/event/marriage-conference/
LOCATION:Evangelical Free Church Sanctuary
END:VEVENT
BEGIN:VEVENT
DTSTART;TZID=America/Denver:20251018T090000
DTEND;TZID=America/Denver:20251018T150000
DTSTAMP:20260421T134502
CREATED:20250911T153857Z
LAST-MODIFIED:20250911T153857Z
UID:9061-1760778000-1760799600@efcsidney.org
SUMMARY:Marriage Conference
DESCRIPTION:Join us for : A Marriage Conference centered around the book of Ruth with Roger & Brenda Daum \nEvery living person has four basic needs they are trying to meet in a variety of ways. If these needs are not met through a meaningful relationship with God and healthy relationships with others it results in emptiness. \nFriday: 6:30 – 8:30 pm \nSaturday: 9am – 3 pm – Lunch provided \nFree child care will be available. A Love Offering will be taken during the event
URL:https://efcsidney.org/event/marriage-conference-2/
LOCATION:Evangelical Free Church Sanctuary
END:VEVENT
BEGIN:VEVENT
DTSTART;TZID=America/Denver:20251019T100000
DTEND;TZID=America/Denver:20251019T113000
DTSTAMP:20260421T134502
CREATED:20250521T174855Z
LAST-MODIFIED:20260311T231432Z
UID:8872-1760868000-1760873400@efcsidney.org
SUMMARY:Worship Service
DESCRIPTION:
URL:https://efcsidney.org/event/worship-service-3/2025-10-19/
LOCATION:Evangelical Free Church of Sidney
END:VEVENT
BEGIN:VEVENT
DTSTART;TZID=America/Denver:20251019T180000
DTEND;TZID=America/Denver:20251019T193000
DTSTAMP:20260421T134502
CREATED:20250911T151907Z
LAST-MODIFIED:20251223T210722Z
UID:9031-1760896800-1760902200@efcsidney.org
SUMMARY:Middle School Youth Group
DESCRIPTION:
URL:https://efcsidney.org/event/middle-school-youth-group-18/2025-10-19/
LOCATION:Upper Room
END:VEVENT
BEGIN:VEVENT
DTSTART;TZID=America/Denver:20251020T173000
DTEND;TZID=America/Denver:20251020T203000
DTSTAMP:20260421T134502
CREATED:20250911T164032Z
LAST-MODIFIED:20260127T171157Z
UID:9140-1760981400-1760992200@efcsidney.org
SUMMARY:Celebrate Recovery
DESCRIPTION:Celebrate Recovery – A Place for Healing and Hope \nJoin us for a free-will dinner and a powerful evening of community\, worship\, and healing. Celebrate Recovery is a Christ-centered recovery ministry for anyone dealing with hurts\, habits\, or hang-ups – and it’s open to everyone.
URL:https://efcsidney.org/event/celebrate-recovery/2025-10-20/
END:VEVENT
BEGIN:VEVENT
DTSTART;TZID=America/Denver:20251022T181500
DTEND;TZID=America/Denver:20251022T194500
DTSTAMP:20260421T134502
CREATED:20250911T161422Z
LAST-MODIFIED:20250911T161717Z
UID:9075-1761156900-1761162300@efcsidney.org
SUMMARY:Awana Clubs
DESCRIPTION:Weekly Bible Club for boys & girls Pre K – 6th Grade \nAWANA stands for “Approved workmen are not ashamed” \n“Do your best to present yourself to God as one approved\, a workman who does not need to be ashamed and who correctly handles the word of truth.” 2 Timothy 2:15 \nCubbies: One year prior to Kindergarten \nSparks: Grades K\, 1st & 2nd \nTruth & Training: Grades 3rd thru 6th
URL:https://efcsidney.org/event/awana-clubs-16/2025-10-22/
END:VEVENT
BEGIN:VEVENT
DTSTART;TZID=America/Denver:20251022T190000
DTEND;TZID=America/Denver:20251022T210000
DTSTAMP:20260421T134502
CREATED:20250911T152017Z
LAST-MODIFIED:20250911T152017Z
UID:9048-1761159600-1761166800@efcsidney.org
SUMMARY:High School Youth Group
DESCRIPTION:
URL:https://efcsidney.org/event/high-school-youth-group-17/2025-10-22/
LOCATION:Upper Room
END:VEVENT
BEGIN:VEVENT
DTSTART;TZID=America/Denver:20251025T090000
DTEND;TZID=America/Denver:20251025T110000
DTSTAMP:20260421T134502
CREATED:20250911T154342Z
LAST-MODIFIED:20250911T154342Z
UID:9064-1761382800-1761390000@efcsidney.org
SUMMARY:Diaper Depot
DESCRIPTION:Free diaper distribution
URL:https://efcsidney.org/event/diaper-depot-2/2025-10-25/
END:VEVENT
BEGIN:VEVENT
DTSTART;TZID=America/Denver:20251026T100000
DTEND;TZID=America/Denver:20251026T113000
DTSTAMP:20260421T134502
CREATED:20250521T174855Z
LAST-MODIFIED:20260311T231432Z
UID:8873-1761472800-1761478200@efcsidney.org
SUMMARY:Worship Service
DESCRIPTION:
URL:https://efcsidney.org/event/worship-service-3/2025-10-26/
LOCATION:Evangelical Free Church of Sidney
END:VEVENT
BEGIN:VEVENT
DTSTART;TZID=America/Denver:20251026T180000
DTEND;TZID=America/Denver:20251026T193000
DTSTAMP:20260421T134502
CREATED:20250911T151907Z
LAST-MODIFIED:20251223T210722Z
UID:9032-1761501600-1761507000@efcsidney.org
SUMMARY:Middle School Youth Group
DESCRIPTION:
URL:https://efcsidney.org/event/middle-school-youth-group-18/2025-10-26/
LOCATION:Upper Room
END:VEVENT
BEGIN:VEVENT
DTSTART;TZID=America/Denver:20251027T173000
DTEND;TZID=America/Denver:20251027T203000
DTSTAMP:20260421T134502
CREATED:20250911T164032Z
LAST-MODIFIED:20260127T171157Z
UID:9141-1761586200-1761597000@efcsidney.org
SUMMARY:Celebrate Recovery
DESCRIPTION:Celebrate Recovery – A Place for Healing and Hope \nJoin us for a free-will dinner and a powerful evening of community\, worship\, and healing. Celebrate Recovery is a Christ-centered recovery ministry for anyone dealing with hurts\, habits\, or hang-ups – and it’s open to everyone.
URL:https://efcsidney.org/event/celebrate-recovery/2025-10-27/
END:VEVENT
BEGIN:VEVENT
DTSTART;TZID=America/Denver:20251029T181500
DTEND;TZID=America/Denver:20251029T194500
DTSTAMP:20260421T134502
CREATED:20250911T161422Z
LAST-MODIFIED:20250911T161717Z
UID:9076-1761761700-1761767100@efcsidney.org
SUMMARY:Awana Clubs
DESCRIPTION:Weekly Bible Club for boys & girls Pre K – 6th Grade \nAWANA stands for “Approved workmen are not ashamed” \n“Do your best to present yourself to God as one approved\, a workman who does not need to be ashamed and who correctly handles the word of truth.” 2 Timothy 2:15 \nCubbies: One year prior to Kindergarten \nSparks: Grades K\, 1st & 2nd \nTruth & Training: Grades 3rd thru 6th
URL:https://efcsidney.org/event/awana-clubs-16/2025-10-29/
END:VEVENT
BEGIN:VEVENT
DTSTART;TZID=America/Denver:20251029T190000
DTEND;TZID=America/Denver:20251029T210000
DTSTAMP:20260421T134502
CREATED:20250911T152017Z
LAST-MODIFIED:20250911T152017Z
UID:9049-1761764400-1761771600@efcsidney.org
SUMMARY:High School Youth Group
DESCRIPTION:
URL:https://efcsidney.org/event/high-school-youth-group-17/2025-10-29/
LOCATION:Upper Room
END:VEVENT
END:VCALENDAR