BEGIN:VCALENDAR
VERSION:2.0
PRODID:-//Sidney Evangelical Free Church - ECPv6.15.20//NONSGML v1.0//EN
CALSCALE:GREGORIAN
METHOD:PUBLISH
X-WR-CALNAME:Sidney Evangelical Free Church
X-ORIGINAL-URL:https://efcsidney.org
X-WR-CALDESC:Events for Sidney Evangelical Free Church
REFRESH-INTERVAL;VALUE=DURATION:PT1H
X-Robots-Tag:noindex
X-PUBLISHED-TTL:PT1H
BEGIN:VTIMEZONE
TZID:America/Denver
BEGIN:DAYLIGHT
TZOFFSETFROM:-0700
TZOFFSETTO:-0600
TZNAME:MDT
DTSTART:20240310T090000
END:DAYLIGHT
BEGIN:STANDARD
TZOFFSETFROM:-0600
TZOFFSETTO:-0700
TZNAME:MST
DTSTART:20241103T080000
END:STANDARD
BEGIN:DAYLIGHT
TZOFFSETFROM:-0700
TZOFFSETTO:-0600
TZNAME:MDT
DTSTART:20250309T090000
END:DAYLIGHT
BEGIN:STANDARD
TZOFFSETFROM:-0600
TZOFFSETTO:-0700
TZNAME:MST
DTSTART:20251102T080000
END:STANDARD
BEGIN:DAYLIGHT
TZOFFSETFROM:-0700
TZOFFSETTO:-0600
TZNAME:MDT
DTSTART:20260308T090000
END:DAYLIGHT
BEGIN:STANDARD
TZOFFSETFROM:-0600
TZOFFSETTO:-0700
TZNAME:MST
DTSTART:20261101T080000
END:STANDARD
END:VTIMEZONE
BEGIN:VEVENT
DTSTART;TZID=America/Denver:20251102T100000
DTEND;TZID=America/Denver:20251102T113000
DTSTAMP:20260421T121043
CREATED:20250521T174855Z
LAST-MODIFIED:20260311T231432Z
UID:8874-1762077600-1762083000@efcsidney.org
SUMMARY:Worship Service
DESCRIPTION:
URL:https://efcsidney.org/event/worship-service-3/2025-11-02/
LOCATION:Evangelical Free Church of Sidney
END:VEVENT
BEGIN:VEVENT
DTSTART;TZID=America/Denver:20251102T180000
DTEND;TZID=America/Denver:20251102T193000
DTSTAMP:20260421T121043
CREATED:20250911T151907Z
LAST-MODIFIED:20251223T210722Z
UID:9033-1762106400-1762111800@efcsidney.org
SUMMARY:Middle School Youth Group
DESCRIPTION:
URL:https://efcsidney.org/event/middle-school-youth-group-18/2025-11-02/
LOCATION:Upper Room
END:VEVENT
BEGIN:VEVENT
DTSTART;TZID=America/Denver:20251103T173000
DTEND;TZID=America/Denver:20251103T203000
DTSTAMP:20260421T121043
CREATED:20250911T164032Z
LAST-MODIFIED:20260127T171157Z
UID:9142-1762191000-1762201800@efcsidney.org
SUMMARY:Celebrate Recovery
DESCRIPTION:Celebrate Recovery – A Place for Healing and Hope \nJoin us for a free-will dinner and a powerful evening of community\, worship\, and healing. Celebrate Recovery is a Christ-centered recovery ministry for anyone dealing with hurts\, habits\, or hang-ups – and it’s open to everyone.
URL:https://efcsidney.org/event/celebrate-recovery/2025-11-03/
END:VEVENT
BEGIN:VEVENT
DTSTART;TZID=America/Denver:20251105T181500
DTEND;TZID=America/Denver:20251105T194500
DTSTAMP:20260421T121043
CREATED:20250911T161422Z
LAST-MODIFIED:20250911T161717Z
UID:9077-1762366500-1762371900@efcsidney.org
SUMMARY:Awana Clubs
DESCRIPTION:Weekly Bible Club for boys & girls Pre K – 6th Grade \nAWANA stands for “Approved workmen are not ashamed” \n“Do your best to present yourself to God as one approved\, a workman who does not need to be ashamed and who correctly handles the word of truth.” 2 Timothy 2:15 \nCubbies: One year prior to Kindergarten \nSparks: Grades K\, 1st & 2nd \nTruth & Training: Grades 3rd thru 6th
URL:https://efcsidney.org/event/awana-clubs-16/2025-11-05/
END:VEVENT
BEGIN:VEVENT
DTSTART;TZID=America/Denver:20251105T190000
DTEND;TZID=America/Denver:20251105T210000
DTSTAMP:20260421T121043
CREATED:20250911T152017Z
LAST-MODIFIED:20250911T152017Z
UID:9050-1762369200-1762376400@efcsidney.org
SUMMARY:High School Youth Group
DESCRIPTION:
URL:https://efcsidney.org/event/high-school-youth-group-17/2025-11-05/
LOCATION:Upper Room
END:VEVENT
BEGIN:VEVENT
DTSTART;TZID=America/Denver:20251109T100000
DTEND;TZID=America/Denver:20251109T113000
DTSTAMP:20260421T121043
CREATED:20250521T174855Z
LAST-MODIFIED:20260311T231432Z
UID:8875-1762682400-1762687800@efcsidney.org
SUMMARY:Worship Service
DESCRIPTION:
URL:https://efcsidney.org/event/worship-service-3/2025-11-09/
LOCATION:Evangelical Free Church of Sidney
END:VEVENT
BEGIN:VEVENT
DTSTART;TZID=America/Denver:20251109T180000
DTEND;TZID=America/Denver:20251109T193000
DTSTAMP:20260421T121043
CREATED:20250911T151907Z
LAST-MODIFIED:20251223T210722Z
UID:9034-1762711200-1762716600@efcsidney.org
SUMMARY:Middle School Youth Group
DESCRIPTION:
URL:https://efcsidney.org/event/middle-school-youth-group-18/2025-11-09/
LOCATION:Upper Room
END:VEVENT
BEGIN:VEVENT
DTSTART;TZID=America/Denver:20251110T173000
DTEND;TZID=America/Denver:20251110T203000
DTSTAMP:20260421T121043
CREATED:20250911T164032Z
LAST-MODIFIED:20260127T171157Z
UID:9143-1762795800-1762806600@efcsidney.org
SUMMARY:Celebrate Recovery
DESCRIPTION:Celebrate Recovery – A Place for Healing and Hope \nJoin us for a free-will dinner and a powerful evening of community\, worship\, and healing. Celebrate Recovery is a Christ-centered recovery ministry for anyone dealing with hurts\, habits\, or hang-ups – and it’s open to everyone.
URL:https://efcsidney.org/event/celebrate-recovery/2025-11-10/
END:VEVENT
BEGIN:VEVENT
DTSTART;TZID=America/Denver:20251112T181500
DTEND;TZID=America/Denver:20251112T194500
DTSTAMP:20260421T121043
CREATED:20250911T161422Z
LAST-MODIFIED:20250911T161717Z
UID:9078-1762971300-1762976700@efcsidney.org
SUMMARY:Awana Clubs
DESCRIPTION:Weekly Bible Club for boys & girls Pre K – 6th Grade \nAWANA stands for “Approved workmen are not ashamed” \n“Do your best to present yourself to God as one approved\, a workman who does not need to be ashamed and who correctly handles the word of truth.” 2 Timothy 2:15 \nCubbies: One year prior to Kindergarten \nSparks: Grades K\, 1st & 2nd \nTruth & Training: Grades 3rd thru 6th
URL:https://efcsidney.org/event/awana-clubs-16/2025-11-12/
END:VEVENT
BEGIN:VEVENT
DTSTART;TZID=America/Denver:20251112T190000
DTEND;TZID=America/Denver:20251112T210000
DTSTAMP:20260421T121043
CREATED:20250911T152017Z
LAST-MODIFIED:20250911T152017Z
UID:9051-1762974000-1762981200@efcsidney.org
SUMMARY:High School Youth Group
DESCRIPTION:
URL:https://efcsidney.org/event/high-school-youth-group-17/2025-11-12/
LOCATION:Upper Room
END:VEVENT
BEGIN:VEVENT
DTSTART;TZID=America/Denver:20251116T100000
DTEND;TZID=America/Denver:20251116T113000
DTSTAMP:20260421T121043
CREATED:20250521T174855Z
LAST-MODIFIED:20260311T231433Z
UID:8876-1763287200-1763292600@efcsidney.org
SUMMARY:Worship Service
DESCRIPTION:
URL:https://efcsidney.org/event/worship-service-3/2025-11-16/
LOCATION:Evangelical Free Church of Sidney
END:VEVENT
BEGIN:VEVENT
DTSTART;TZID=America/Denver:20251116T180000
DTEND;TZID=America/Denver:20251116T193000
DTSTAMP:20260421T121043
CREATED:20250911T151907Z
LAST-MODIFIED:20251223T210724Z
UID:9035-1763316000-1763321400@efcsidney.org
SUMMARY:Middle School Youth Group
DESCRIPTION:
URL:https://efcsidney.org/event/middle-school-youth-group-18/2025-11-16/
LOCATION:Upper Room
END:VEVENT
BEGIN:VEVENT
DTSTART;TZID=America/Denver:20251117T173000
DTEND;TZID=America/Denver:20251117T203000
DTSTAMP:20260421T121043
CREATED:20250911T164032Z
LAST-MODIFIED:20260127T171158Z
UID:9144-1763400600-1763411400@efcsidney.org
SUMMARY:Celebrate Recovery
DESCRIPTION:Celebrate Recovery – A Place for Healing and Hope \nJoin us for a free-will dinner and a powerful evening of community\, worship\, and healing. Celebrate Recovery is a Christ-centered recovery ministry for anyone dealing with hurts\, habits\, or hang-ups – and it’s open to everyone.
URL:https://efcsidney.org/event/celebrate-recovery/2025-11-17/
END:VEVENT
BEGIN:VEVENT
DTSTART;TZID=America/Denver:20251119T181500
DTEND;TZID=America/Denver:20251119T194500
DTSTAMP:20260421T121043
CREATED:20250911T161422Z
LAST-MODIFIED:20250911T161717Z
UID:9079-1763576100-1763581500@efcsidney.org
SUMMARY:Awana Clubs
DESCRIPTION:Weekly Bible Club for boys & girls Pre K – 6th Grade \nAWANA stands for “Approved workmen are not ashamed” \n“Do your best to present yourself to God as one approved\, a workman who does not need to be ashamed and who correctly handles the word of truth.” 2 Timothy 2:15 \nCubbies: One year prior to Kindergarten \nSparks: Grades K\, 1st & 2nd \nTruth & Training: Grades 3rd thru 6th
URL:https://efcsidney.org/event/awana-clubs-16/2025-11-19/
END:VEVENT
BEGIN:VEVENT
DTSTART;TZID=America/Denver:20251119T190000
DTEND;TZID=America/Denver:20251119T210000
DTSTAMP:20260421T121043
CREATED:20250911T152017Z
LAST-MODIFIED:20250911T152017Z
UID:9052-1763578800-1763586000@efcsidney.org
SUMMARY:High School Youth Group
DESCRIPTION:
URL:https://efcsidney.org/event/high-school-youth-group-17/2025-11-19/
LOCATION:Upper Room
END:VEVENT
BEGIN:VEVENT
DTSTART;TZID=America/Denver:20251123T100000
DTEND;TZID=America/Denver:20251123T113000
DTSTAMP:20260421T121043
CREATED:20250521T174855Z
LAST-MODIFIED:20260311T231433Z
UID:8877-1763892000-1763897400@efcsidney.org
SUMMARY:Worship Service
DESCRIPTION:
URL:https://efcsidney.org/event/worship-service-3/2025-11-23/
LOCATION:Evangelical Free Church of Sidney
END:VEVENT
BEGIN:VEVENT
DTSTART;TZID=America/Denver:20251123T180000
DTEND;TZID=America/Denver:20251123T193000
DTSTAMP:20260421T121043
CREATED:20250911T151907Z
LAST-MODIFIED:20251223T210724Z
UID:9036-1763920800-1763926200@efcsidney.org
SUMMARY:Middle School Youth Group
DESCRIPTION:
URL:https://efcsidney.org/event/middle-school-youth-group-18/2025-11-23/
LOCATION:Upper Room
END:VEVENT
BEGIN:VEVENT
DTSTART;TZID=America/Denver:20251124T173000
DTEND;TZID=America/Denver:20251124T203000
DTSTAMP:20260421T121043
CREATED:20250911T164032Z
LAST-MODIFIED:20260127T171158Z
UID:9145-1764005400-1764016200@efcsidney.org
SUMMARY:Celebrate Recovery
DESCRIPTION:Celebrate Recovery – A Place for Healing and Hope \nJoin us for a free-will dinner and a powerful evening of community\, worship\, and healing. Celebrate Recovery is a Christ-centered recovery ministry for anyone dealing with hurts\, habits\, or hang-ups – and it’s open to everyone.
URL:https://efcsidney.org/event/celebrate-recovery/2025-11-24/
END:VEVENT
BEGIN:VEVENT
DTSTART;TZID=America/Denver:20251126T181500
DTEND;TZID=America/Denver:20251126T194500
DTSTAMP:20260421T121043
CREATED:20250911T161422Z
LAST-MODIFIED:20250911T161718Z
UID:9081-1764180900-1764186300@efcsidney.org
SUMMARY:Awana Clubs
DESCRIPTION:Weekly Bible Club for boys & girls Pre K – 6th Grade \nAWANA stands for “Approved workmen are not ashamed” \n“Do your best to present yourself to God as one approved\, a workman who does not need to be ashamed and who correctly handles the word of truth.” 2 Timothy 2:15 \nCubbies: One year prior to Kindergarten \nSparks: Grades K\, 1st & 2nd \nTruth & Training: Grades 3rd thru 6th
URL:https://efcsidney.org/event/awana-clubs-16/2025-11-26/
END:VEVENT
BEGIN:VEVENT
DTSTART;TZID=America/Denver:20251126T190000
DTEND;TZID=America/Denver:20251126T210000
DTSTAMP:20260421T121043
CREATED:20250911T152017Z
LAST-MODIFIED:20250911T152017Z
UID:9053-1764183600-1764190800@efcsidney.org
SUMMARY:High School Youth Group
DESCRIPTION:
URL:https://efcsidney.org/event/high-school-youth-group-17/2025-11-26/
LOCATION:Upper Room
END:VEVENT
BEGIN:VEVENT
DTSTART;TZID=America/Denver:20251129T090000
DTEND;TZID=America/Denver:20251129T110000
DTSTAMP:20260421T121043
CREATED:20250911T154342Z
LAST-MODIFIED:20250911T154342Z
UID:9065-1764406800-1764414000@efcsidney.org
SUMMARY:Diaper Depot
DESCRIPTION:Free diaper distribution
URL:https://efcsidney.org/event/diaper-depot-2/2025-11-29/
END:VEVENT
BEGIN:VEVENT
DTSTART;TZID=America/Denver:20251130T100000
DTEND;TZID=America/Denver:20251130T113000
DTSTAMP:20260421T121043
CREATED:20250521T174855Z
LAST-MODIFIED:20260311T231433Z
UID:8878-1764496800-1764502200@efcsidney.org
SUMMARY:Worship Service
DESCRIPTION:
URL:https://efcsidney.org/event/worship-service-3/2025-11-30/
LOCATION:Evangelical Free Church of Sidney
END:VEVENT
BEGIN:VEVENT
DTSTART;TZID=America/Denver:20251130T180000
DTEND;TZID=America/Denver:20251130T193000
DTSTAMP:20260421T121043
CREATED:20250911T151907Z
LAST-MODIFIED:20251223T210724Z
UID:9038-1764525600-1764531000@efcsidney.org
SUMMARY:Middle School Youth Group
DESCRIPTION:
URL:https://efcsidney.org/event/middle-school-youth-group-18/2025-11-30/
LOCATION:Upper Room
END:VEVENT
END:VCALENDAR