BEGIN:VCALENDAR
VERSION:2.0
PRODID:-//Sidney Evangelical Free Church - ECPv6.15.20//NONSGML v1.0//EN
CALSCALE:GREGORIAN
METHOD:PUBLISH
X-WR-CALNAME:Sidney Evangelical Free Church
X-ORIGINAL-URL:https://efcsidney.org
X-WR-CALDESC:Events for Sidney Evangelical Free Church
REFRESH-INTERVAL;VALUE=DURATION:PT1H
X-Robots-Tag:noindex
X-PUBLISHED-TTL:PT1H
BEGIN:VTIMEZONE
TZID:America/Denver
BEGIN:DAYLIGHT
TZOFFSETFROM:-0700
TZOFFSETTO:-0600
TZNAME:MDT
DTSTART:20240310T090000
END:DAYLIGHT
BEGIN:STANDARD
TZOFFSETFROM:-0600
TZOFFSETTO:-0700
TZNAME:MST
DTSTART:20241103T080000
END:STANDARD
BEGIN:DAYLIGHT
TZOFFSETFROM:-0700
TZOFFSETTO:-0600
TZNAME:MDT
DTSTART:20250309T090000
END:DAYLIGHT
BEGIN:STANDARD
TZOFFSETFROM:-0600
TZOFFSETTO:-0700
TZNAME:MST
DTSTART:20251102T080000
END:STANDARD
BEGIN:DAYLIGHT
TZOFFSETFROM:-0700
TZOFFSETTO:-0600
TZNAME:MDT
DTSTART:20260308T090000
END:DAYLIGHT
BEGIN:STANDARD
TZOFFSETFROM:-0600
TZOFFSETTO:-0700
TZNAME:MST
DTSTART:20261101T080000
END:STANDARD
END:VTIMEZONE
BEGIN:VEVENT
DTSTART;TZID=America/Denver:20251201T173000
DTEND;TZID=America/Denver:20251201T203000
DTSTAMP:20260421T104458
CREATED:20250911T164032Z
LAST-MODIFIED:20260127T171158Z
UID:9147-1764610200-1764621000@efcsidney.org
SUMMARY:Celebrate Recovery
DESCRIPTION:Celebrate Recovery – A Place for Healing and Hope \nJoin us for a free-will dinner and a powerful evening of community\, worship\, and healing. Celebrate Recovery is a Christ-centered recovery ministry for anyone dealing with hurts\, habits\, or hang-ups – and it’s open to everyone.
URL:https://efcsidney.org/event/celebrate-recovery/2025-12-01/
END:VEVENT
BEGIN:VEVENT
DTSTART;TZID=America/Denver:20251203T181500
DTEND;TZID=America/Denver:20251203T194500
DTSTAMP:20260421T104458
CREATED:20250911T161422Z
LAST-MODIFIED:20250911T161718Z
UID:9082-1764785700-1764791100@efcsidney.org
SUMMARY:Awana Clubs
DESCRIPTION:Weekly Bible Club for boys & girls Pre K – 6th Grade \nAWANA stands for “Approved workmen are not ashamed” \n“Do your best to present yourself to God as one approved\, a workman who does not need to be ashamed and who correctly handles the word of truth.” 2 Timothy 2:15 \nCubbies: One year prior to Kindergarten \nSparks: Grades K\, 1st & 2nd \nTruth & Training: Grades 3rd thru 6th
URL:https://efcsidney.org/event/awana-clubs-16/2025-12-03/
END:VEVENT
BEGIN:VEVENT
DTSTART;TZID=America/Denver:20251203T190000
DTEND;TZID=America/Denver:20251203T210000
DTSTAMP:20260421T104458
CREATED:20250911T152017Z
LAST-MODIFIED:20250911T152017Z
UID:9055-1764788400-1764795600@efcsidney.org
SUMMARY:High School Youth Group
DESCRIPTION:
URL:https://efcsidney.org/event/high-school-youth-group-17/2025-12-03/
LOCATION:Upper Room
END:VEVENT
BEGIN:VEVENT
DTSTART;TZID=America/Denver:20251207T100000
DTEND;TZID=America/Denver:20251207T113000
DTSTAMP:20260421T104458
CREATED:20250521T174855Z
LAST-MODIFIED:20260311T231433Z
UID:8879-1765101600-1765107000@efcsidney.org
SUMMARY:Worship Service
DESCRIPTION:
URL:https://efcsidney.org/event/worship-service-3/2025-12-07/
LOCATION:Evangelical Free Church of Sidney
END:VEVENT
BEGIN:VEVENT
DTSTART;TZID=America/Denver:20251207T180000
DTEND;TZID=America/Denver:20251207T193000
DTSTAMP:20260421T104458
CREATED:20250911T151907Z
LAST-MODIFIED:20250911T151907Z
UID:9280-1765130400-1765135800@efcsidney.org
SUMMARY:Middle School Youth Group
DESCRIPTION:
URL:https://efcsidney.org/event/middle-school-youth-group-18/2025-12-07/
LOCATION:Upper Room
END:VEVENT
BEGIN:VEVENT
DTSTART;TZID=America/Denver:20251207T180000
DTEND;TZID=America/Denver:20251207T200000
DTSTAMP:20260421T104458
CREATED:20251105T201822Z
LAST-MODIFIED:20251105T201822Z
UID:9229-1765130400-1765137600@efcsidney.org
SUMMARY:Hanging Of The Green Christmas Program
DESCRIPTION:Join us after the program for refreshments. Please bring your favorite Christmas finger food to share.
URL:https://efcsidney.org/event/hanging-of-the-green-christmas-program-2/
END:VEVENT
BEGIN:VEVENT
DTSTART;TZID=America/Denver:20251208T173000
DTEND;TZID=America/Denver:20251208T203000
DTSTAMP:20260421T104458
CREATED:20250911T164032Z
LAST-MODIFIED:20260127T171158Z
UID:9148-1765215000-1765225800@efcsidney.org
SUMMARY:Celebrate Recovery
DESCRIPTION:Celebrate Recovery – A Place for Healing and Hope \nJoin us for a free-will dinner and a powerful evening of community\, worship\, and healing. Celebrate Recovery is a Christ-centered recovery ministry for anyone dealing with hurts\, habits\, or hang-ups – and it’s open to everyone.
URL:https://efcsidney.org/event/celebrate-recovery/2025-12-08/
END:VEVENT
BEGIN:VEVENT
DTSTART;TZID=America/Denver:20251210T181500
DTEND;TZID=America/Denver:20251210T194500
DTSTAMP:20260421T104458
CREATED:20250911T161422Z
LAST-MODIFIED:20250911T161718Z
UID:9083-1765390500-1765395900@efcsidney.org
SUMMARY:Awana Clubs
DESCRIPTION:Weekly Bible Club for boys & girls Pre K – 6th Grade \nAWANA stands for “Approved workmen are not ashamed” \n“Do your best to present yourself to God as one approved\, a workman who does not need to be ashamed and who correctly handles the word of truth.” 2 Timothy 2:15 \nCubbies: One year prior to Kindergarten \nSparks: Grades K\, 1st & 2nd \nTruth & Training: Grades 3rd thru 6th
URL:https://efcsidney.org/event/awana-clubs-16/2025-12-10/
END:VEVENT
BEGIN:VEVENT
DTSTART;TZID=America/Denver:20251210T190000
DTEND;TZID=America/Denver:20251210T210000
DTSTAMP:20260421T104458
CREATED:20250911T152017Z
LAST-MODIFIED:20250911T152017Z
UID:9056-1765393200-1765400400@efcsidney.org
SUMMARY:High School Youth Group
DESCRIPTION:
URL:https://efcsidney.org/event/high-school-youth-group-17/2025-12-10/
LOCATION:Upper Room
END:VEVENT
BEGIN:VEVENT
DTSTART;TZID=America/Denver:20251214T100000
DTEND;TZID=America/Denver:20251214T113000
DTSTAMP:20260421T104458
CREATED:20250521T174855Z
LAST-MODIFIED:20260311T231433Z
UID:8880-1765706400-1765711800@efcsidney.org
SUMMARY:Worship Service
DESCRIPTION:
URL:https://efcsidney.org/event/worship-service-3/2025-12-14/
LOCATION:Evangelical Free Church of Sidney
END:VEVENT
BEGIN:VEVENT
DTSTART;TZID=America/Denver:20251214T180000
DTEND;TZID=America/Denver:20251214T193000
DTSTAMP:20260421T104458
CREATED:20250911T151907Z
LAST-MODIFIED:20251223T210724Z
UID:9040-1765735200-1765740600@efcsidney.org
SUMMARY:Middle School Youth Group
DESCRIPTION:
URL:https://efcsidney.org/event/middle-school-youth-group-18/2025-12-14/
LOCATION:Upper Room
END:VEVENT
BEGIN:VEVENT
DTSTART;TZID=America/Denver:20251215T173000
DTEND;TZID=America/Denver:20251215T203000
DTSTAMP:20260421T104458
CREATED:20250911T164032Z
LAST-MODIFIED:20260127T171158Z
UID:9149-1765819800-1765830600@efcsidney.org
SUMMARY:Celebrate Recovery
DESCRIPTION:Celebrate Recovery – A Place for Healing and Hope \nJoin us for a free-will dinner and a powerful evening of community\, worship\, and healing. Celebrate Recovery is a Christ-centered recovery ministry for anyone dealing with hurts\, habits\, or hang-ups – and it’s open to everyone.
URL:https://efcsidney.org/event/celebrate-recovery/2025-12-15/
END:VEVENT
BEGIN:VEVENT
DTSTART;TZID=America/Denver:20251217T181500
DTEND;TZID=America/Denver:20251217T194500
DTSTAMP:20260421T104458
CREATED:20250911T161422Z
LAST-MODIFIED:20250911T161718Z
UID:9084-1765995300-1766000700@efcsidney.org
SUMMARY:Awana Clubs
DESCRIPTION:Weekly Bible Club for boys & girls Pre K – 6th Grade \nAWANA stands for “Approved workmen are not ashamed” \n“Do your best to present yourself to God as one approved\, a workman who does not need to be ashamed and who correctly handles the word of truth.” 2 Timothy 2:15 \nCubbies: One year prior to Kindergarten \nSparks: Grades K\, 1st & 2nd \nTruth & Training: Grades 3rd thru 6th
URL:https://efcsidney.org/event/awana-clubs-16/2025-12-17/
END:VEVENT
BEGIN:VEVENT
DTSTART;TZID=America/Denver:20251217T190000
DTEND;TZID=America/Denver:20251217T210000
DTSTAMP:20260421T104458
CREATED:20250911T152017Z
LAST-MODIFIED:20250911T152017Z
UID:9057-1765998000-1766005200@efcsidney.org
SUMMARY:High School Youth Group
DESCRIPTION:
URL:https://efcsidney.org/event/high-school-youth-group-17/2025-12-17/
LOCATION:Upper Room
END:VEVENT
BEGIN:VEVENT
DTSTART;TZID=America/Denver:20251221T100000
DTEND;TZID=America/Denver:20251221T113000
DTSTAMP:20260421T104458
CREATED:20250521T174855Z
LAST-MODIFIED:20260311T231433Z
UID:8881-1766311200-1766316600@efcsidney.org
SUMMARY:Worship Service
DESCRIPTION:
URL:https://efcsidney.org/event/worship-service-3/2025-12-21/
LOCATION:Evangelical Free Church of Sidney
END:VEVENT
BEGIN:VEVENT
DTSTART;TZID=America/Denver:20251221T180000
DTEND;TZID=America/Denver:20251221T193000
DTSTAMP:20260421T104458
CREATED:20250911T151907Z
LAST-MODIFIED:20251223T210724Z
UID:9041-1766340000-1766345400@efcsidney.org
SUMMARY:Middle School Youth Group
DESCRIPTION:
URL:https://efcsidney.org/event/middle-school-youth-group-18/2025-12-21/
LOCATION:Upper Room
END:VEVENT
BEGIN:VEVENT
DTSTART;TZID=America/Denver:20251222T173000
DTEND;TZID=America/Denver:20251222T203000
DTSTAMP:20260421T104458
CREATED:20250911T164032Z
LAST-MODIFIED:20260127T171158Z
UID:9150-1766424600-1766435400@efcsidney.org
SUMMARY:Celebrate Recovery
DESCRIPTION:Celebrate Recovery – A Place for Healing and Hope \nJoin us for a free-will dinner and a powerful evening of community\, worship\, and healing. Celebrate Recovery is a Christ-centered recovery ministry for anyone dealing with hurts\, habits\, or hang-ups – and it’s open to everyone.
URL:https://efcsidney.org/event/celebrate-recovery/2025-12-22/
END:VEVENT
BEGIN:VEVENT
DTSTART;TZID=America/Denver:20251223T113000
DTEND;TZID=America/Denver:20251223T130000
DTSTAMP:20260421T104458
CREATED:20251223T211256Z
LAST-MODIFIED:20251223T211256Z
UID:9284-1766489400-1766494800@efcsidney.org
SUMMARY:Annual Youth Soup Fundraiser
DESCRIPTION:
URL:https://efcsidney.org/event/annual-youth-soup-fundraiser-2/
LOCATION:E-Free Family Center
END:VEVENT
BEGIN:VEVENT
DTSTART;TZID=America/Denver:20251224T163000
DTEND;TZID=America/Denver:20251224T173000
DTSTAMP:20260421T104458
CREATED:20251223T210638Z
LAST-MODIFIED:20251223T210638Z
UID:9278-1766593800-1766597400@efcsidney.org
SUMMARY:Christmas Eve Candlelight Service
DESCRIPTION:
URL:https://efcsidney.org/event/christmas-eve-candlelight-service-11/
LOCATION:Evangelical Free Church Sanctuary
END:VEVENT
BEGIN:VEVENT
DTSTART;TZID=America/Denver:20251227T090000
DTEND;TZID=America/Denver:20251227T110000
DTSTAMP:20260421T104458
CREATED:20250911T154342Z
LAST-MODIFIED:20250911T154342Z
UID:9066-1766826000-1766833200@efcsidney.org
SUMMARY:Diaper Depot
DESCRIPTION:Free diaper distribution
URL:https://efcsidney.org/event/diaper-depot-2/2025-12-27/
END:VEVENT
BEGIN:VEVENT
DTSTART;TZID=America/Denver:20251228T100000
DTEND;TZID=America/Denver:20251228T113000
DTSTAMP:20260421T104458
CREATED:20250521T174855Z
LAST-MODIFIED:20260311T231434Z
UID:8882-1766916000-1766921400@efcsidney.org
SUMMARY:Worship Service
DESCRIPTION:
URL:https://efcsidney.org/event/worship-service-3/2025-12-28/
LOCATION:Evangelical Free Church of Sidney
END:VEVENT
BEGIN:VEVENT
DTSTART;TZID=America/Denver:20251229T173000
DTEND;TZID=America/Denver:20251229T203000
DTSTAMP:20260421T104458
CREATED:20250911T164032Z
LAST-MODIFIED:20260127T171158Z
UID:9151-1767029400-1767040200@efcsidney.org
SUMMARY:Celebrate Recovery
DESCRIPTION:Celebrate Recovery – A Place for Healing and Hope \nJoin us for a free-will dinner and a powerful evening of community\, worship\, and healing. Celebrate Recovery is a Christ-centered recovery ministry for anyone dealing with hurts\, habits\, or hang-ups – and it’s open to everyone.
URL:https://efcsidney.org/event/celebrate-recovery/2025-12-29/
END:VEVENT
END:VCALENDAR