BEGIN:VCALENDAR
VERSION:2.0
PRODID:-//Sidney Evangelical Free Church - ECPv6.15.20//NONSGML v1.0//EN
CALSCALE:GREGORIAN
METHOD:PUBLISH
X-WR-CALNAME:Sidney Evangelical Free Church
X-ORIGINAL-URL:https://efcsidney.org
X-WR-CALDESC:Events for Sidney Evangelical Free Church
REFRESH-INTERVAL;VALUE=DURATION:PT1H
X-Robots-Tag:noindex
X-PUBLISHED-TTL:PT1H
BEGIN:VTIMEZONE
TZID:America/Denver
BEGIN:DAYLIGHT
TZOFFSETFROM:-0700
TZOFFSETTO:-0600
TZNAME:MDT
DTSTART:20250309T090000
END:DAYLIGHT
BEGIN:STANDARD
TZOFFSETFROM:-0600
TZOFFSETTO:-0700
TZNAME:MST
DTSTART:20251102T080000
END:STANDARD
BEGIN:DAYLIGHT
TZOFFSETFROM:-0700
TZOFFSETTO:-0600
TZNAME:MDT
DTSTART:20260308T090000
END:DAYLIGHT
BEGIN:STANDARD
TZOFFSETFROM:-0600
TZOFFSETTO:-0700
TZNAME:MST
DTSTART:20261101T080000
END:STANDARD
BEGIN:DAYLIGHT
TZOFFSETFROM:-0700
TZOFFSETTO:-0600
TZNAME:MDT
DTSTART:20270314T090000
END:DAYLIGHT
BEGIN:STANDARD
TZOFFSETFROM:-0600
TZOFFSETTO:-0700
TZNAME:MST
DTSTART:20271107T080000
END:STANDARD
END:VTIMEZONE
BEGIN:VEVENT
DTSTART;TZID=America/Denver:20260104T100000
DTEND;TZID=America/Denver:20260104T113000
DTSTAMP:20260421T091649
CREATED:20250521T174855Z
LAST-MODIFIED:20260311T231434Z
UID:9436-1767520800-1767526200@efcsidney.org
SUMMARY:Worship Service
DESCRIPTION:
URL:https://efcsidney.org/event/worship-service-3/2026-01-04/
LOCATION:Evangelical Free Church of Sidney
END:VEVENT
BEGIN:VEVENT
DTSTART;TZID=America/Denver:20260105T173000
DTEND;TZID=America/Denver:20260105T203000
DTSTAMP:20260421T091649
CREATED:20250911T164032Z
LAST-MODIFIED:20250911T164032Z
UID:9369-1767634200-1767645000@efcsidney.org
SUMMARY:Celebrate Recovery
DESCRIPTION:Celebrate Recovery – A Place for Healing and Hope \nJoin us for a free-will dinner and a powerful evening of community\, worship\, and healing. Celebrate Recovery is a Christ-centered recovery ministry for anyone dealing with hurts\, habits\, or hang-ups – and it’s open to everyone.
URL:https://efcsidney.org/event/celebrate-recovery/2026-01-05/
END:VEVENT
BEGIN:VEVENT
DTSTART;TZID=America/Denver:20260107T181500
DTEND;TZID=America/Denver:20260107T194500
DTSTAMP:20260421T091649
CREATED:20250911T161422Z
LAST-MODIFIED:20250911T161718Z
UID:9085-1767809700-1767815100@efcsidney.org
SUMMARY:Awana Clubs
DESCRIPTION:Weekly Bible Club for boys & girls Pre K – 6th Grade \nAWANA stands for “Approved workmen are not ashamed” \n“Do your best to present yourself to God as one approved\, a workman who does not need to be ashamed and who correctly handles the word of truth.” 2 Timothy 2:15 \nCubbies: One year prior to Kindergarten \nSparks: Grades K\, 1st & 2nd \nTruth & Training: Grades 3rd thru 6th
URL:https://efcsidney.org/event/awana-clubs-16/2026-01-07/
END:VEVENT
BEGIN:VEVENT
DTSTART;TZID=America/Denver:20260111T100000
DTEND;TZID=America/Denver:20260111T113000
DTSTAMP:20260421T091649
CREATED:20250521T174855Z
LAST-MODIFIED:20260311T231434Z
UID:9437-1768125600-1768131000@efcsidney.org
SUMMARY:Worship Service
DESCRIPTION:
URL:https://efcsidney.org/event/worship-service-3/2026-01-11/
LOCATION:Evangelical Free Church of Sidney
END:VEVENT
BEGIN:VEVENT
DTSTART;TZID=America/Denver:20260111T180000
DTEND;TZID=America/Denver:20260111T190000
DTSTAMP:20260421T091649
CREATED:20260106T210749Z
LAST-MODIFIED:20260311T231752Z
UID:9305-1768154400-1768158000@efcsidney.org
SUMMARY:Prayer Time
DESCRIPTION:
URL:https://efcsidney.org/event/prayer-time-40/2026-01-11/
LOCATION:Church Library
END:VEVENT
BEGIN:VEVENT
DTSTART;TZID=America/Denver:20260112T173000
DTEND;TZID=America/Denver:20260112T203000
DTSTAMP:20260421T091649
CREATED:20250911T164032Z
LAST-MODIFIED:20250911T164032Z
UID:9370-1768239000-1768249800@efcsidney.org
SUMMARY:Celebrate Recovery
DESCRIPTION:Celebrate Recovery – A Place for Healing and Hope \nJoin us for a free-will dinner and a powerful evening of community\, worship\, and healing. Celebrate Recovery is a Christ-centered recovery ministry for anyone dealing with hurts\, habits\, or hang-ups – and it’s open to everyone.
URL:https://efcsidney.org/event/celebrate-recovery/2026-01-12/
END:VEVENT
BEGIN:VEVENT
DTSTART;TZID=America/Denver:20260114T181500
DTEND;TZID=America/Denver:20260114T194500
DTSTAMP:20260421T091649
CREATED:20250911T161422Z
LAST-MODIFIED:20250911T161718Z
UID:9086-1768414500-1768419900@efcsidney.org
SUMMARY:Awana Clubs
DESCRIPTION:Weekly Bible Club for boys & girls Pre K – 6th Grade \nAWANA stands for “Approved workmen are not ashamed” \n“Do your best to present yourself to God as one approved\, a workman who does not need to be ashamed and who correctly handles the word of truth.” 2 Timothy 2:15 \nCubbies: One year prior to Kindergarten \nSparks: Grades K\, 1st & 2nd \nTruth & Training: Grades 3rd thru 6th
URL:https://efcsidney.org/event/awana-clubs-16/2026-01-14/
END:VEVENT
BEGIN:VEVENT
DTSTART;TZID=America/Denver:20260118T100000
DTEND;TZID=America/Denver:20260118T113000
DTSTAMP:20260421T091649
CREATED:20250521T174855Z
LAST-MODIFIED:20260311T231434Z
UID:9438-1768730400-1768735800@efcsidney.org
SUMMARY:Worship Service
DESCRIPTION:
URL:https://efcsidney.org/event/worship-service-3/2026-01-18/
LOCATION:Evangelical Free Church of Sidney
END:VEVENT
BEGIN:VEVENT
DTSTART;TZID=America/Denver:20260118T180000
DTEND;TZID=America/Denver:20260118T190000
DTSTAMP:20260421T091649
CREATED:20260106T210749Z
LAST-MODIFIED:20260311T231752Z
UID:9306-1768759200-1768762800@efcsidney.org
SUMMARY:Prayer Time
DESCRIPTION:
URL:https://efcsidney.org/event/prayer-time-40/2026-01-18/
LOCATION:Church Library
END:VEVENT
BEGIN:VEVENT
DTSTART;TZID=America/Denver:20260119T173000
DTEND;TZID=America/Denver:20260119T203000
DTSTAMP:20260421T091649
CREATED:20250911T164032Z
LAST-MODIFIED:20250911T164032Z
UID:9371-1768843800-1768854600@efcsidney.org
SUMMARY:Celebrate Recovery
DESCRIPTION:Celebrate Recovery – A Place for Healing and Hope \nJoin us for a free-will dinner and a powerful evening of community\, worship\, and healing. Celebrate Recovery is a Christ-centered recovery ministry for anyone dealing with hurts\, habits\, or hang-ups – and it’s open to everyone.
URL:https://efcsidney.org/event/celebrate-recovery/2026-01-19/
END:VEVENT
BEGIN:VEVENT
DTSTART;TZID=America/Denver:20260121T181500
DTEND;TZID=America/Denver:20260121T194500
DTSTAMP:20260421T091649
CREATED:20250911T161422Z
LAST-MODIFIED:20250911T161718Z
UID:9087-1769019300-1769024700@efcsidney.org
SUMMARY:Awana Clubs
DESCRIPTION:Weekly Bible Club for boys & girls Pre K – 6th Grade \nAWANA stands for “Approved workmen are not ashamed” \n“Do your best to present yourself to God as one approved\, a workman who does not need to be ashamed and who correctly handles the word of truth.” 2 Timothy 2:15 \nCubbies: One year prior to Kindergarten \nSparks: Grades K\, 1st & 2nd \nTruth & Training: Grades 3rd thru 6th
URL:https://efcsidney.org/event/awana-clubs-16/2026-01-21/
END:VEVENT
BEGIN:VEVENT
DTSTART;TZID=America/Denver:20260125T100000
DTEND;TZID=America/Denver:20260125T113000
DTSTAMP:20260421T091649
CREATED:20250521T174855Z
LAST-MODIFIED:20260311T231434Z
UID:9439-1769335200-1769340600@efcsidney.org
SUMMARY:Worship Service
DESCRIPTION:
URL:https://efcsidney.org/event/worship-service-3/2026-01-25/
LOCATION:Evangelical Free Church of Sidney
END:VEVENT
BEGIN:VEVENT
DTSTART;TZID=America/Denver:20260125T123000
DTEND;TZID=America/Denver:20260125T153000
DTSTAMP:20260421T091649
CREATED:20251223T211109Z
LAST-MODIFIED:20251223T211150Z
UID:9281-1769344200-1769355000@efcsidney.org
SUMMARY:Annual Church Business Meeting
DESCRIPTION:
URL:https://efcsidney.org/event/annual-meeting/
LOCATION:E-Free Family Center
END:VEVENT
BEGIN:VEVENT
DTSTART;TZID=America/Denver:20260126T173000
DTEND;TZID=America/Denver:20260126T203000
DTSTAMP:20260421T091649
CREATED:20250911T164032Z
LAST-MODIFIED:20250911T164032Z
UID:9372-1769448600-1769459400@efcsidney.org
SUMMARY:Celebrate Recovery
DESCRIPTION:Celebrate Recovery – A Place for Healing and Hope \nJoin us for a free-will dinner and a powerful evening of community\, worship\, and healing. Celebrate Recovery is a Christ-centered recovery ministry for anyone dealing with hurts\, habits\, or hang-ups – and it’s open to everyone.
URL:https://efcsidney.org/event/celebrate-recovery/2026-01-26/
END:VEVENT
BEGIN:VEVENT
DTSTART;TZID=America/Denver:20260128T181500
DTEND;TZID=America/Denver:20260128T194500
DTSTAMP:20260421T091649
CREATED:20250911T161422Z
LAST-MODIFIED:20250911T161718Z
UID:9088-1769624100-1769629500@efcsidney.org
SUMMARY:Awana Clubs
DESCRIPTION:Weekly Bible Club for boys & girls Pre K – 6th Grade \nAWANA stands for “Approved workmen are not ashamed” \n“Do your best to present yourself to God as one approved\, a workman who does not need to be ashamed and who correctly handles the word of truth.” 2 Timothy 2:15 \nCubbies: One year prior to Kindergarten \nSparks: Grades K\, 1st & 2nd \nTruth & Training: Grades 3rd thru 6th
URL:https://efcsidney.org/event/awana-clubs-16/2026-01-28/
END:VEVENT
END:VCALENDAR