BEGIN:VCALENDAR
VERSION:2.0
PRODID:-//Sidney Evangelical Free Church - ECPv6.15.20//NONSGML v1.0//EN
CALSCALE:GREGORIAN
METHOD:PUBLISH
X-WR-CALNAME:Sidney Evangelical Free Church
X-ORIGINAL-URL:https://efcsidney.org
X-WR-CALDESC:Events for Sidney Evangelical Free Church
REFRESH-INTERVAL;VALUE=DURATION:PT1H
X-Robots-Tag:noindex
X-PUBLISHED-TTL:PT1H
BEGIN:VTIMEZONE
TZID:America/Denver
BEGIN:DAYLIGHT
TZOFFSETFROM:-0700
TZOFFSETTO:-0600
TZNAME:MDT
DTSTART:20250309T090000
END:DAYLIGHT
BEGIN:STANDARD
TZOFFSETFROM:-0600
TZOFFSETTO:-0700
TZNAME:MST
DTSTART:20251102T080000
END:STANDARD
BEGIN:DAYLIGHT
TZOFFSETFROM:-0700
TZOFFSETTO:-0600
TZNAME:MDT
DTSTART:20260308T090000
END:DAYLIGHT
BEGIN:STANDARD
TZOFFSETFROM:-0600
TZOFFSETTO:-0700
TZNAME:MST
DTSTART:20261101T080000
END:STANDARD
BEGIN:DAYLIGHT
TZOFFSETFROM:-0700
TZOFFSETTO:-0600
TZNAME:MDT
DTSTART:20270314T090000
END:DAYLIGHT
BEGIN:STANDARD
TZOFFSETFROM:-0600
TZOFFSETTO:-0700
TZNAME:MST
DTSTART:20271107T080000
END:STANDARD
END:VTIMEZONE
BEGIN:VEVENT
DTSTART;TZID=America/Denver:20260503T100000
DTEND;TZID=America/Denver:20260503T113000
DTSTAMP:20260421T061700
CREATED:20250521T174855Z
LAST-MODIFIED:20260311T231435Z
UID:9454-1777802400-1777807800@efcsidney.org
SUMMARY:Worship Service
DESCRIPTION:
URL:https://efcsidney.org/event/worship-service-3/2026-05-03/
LOCATION:Evangelical Free Church of Sidney
END:VEVENT
BEGIN:VEVENT
DTSTART;TZID=America/Denver:20260503T180000
DTEND;TZID=America/Denver:20260503T190000
DTSTAMP:20260421T061700
CREATED:20260106T210749Z
LAST-MODIFIED:20260311T231756Z
UID:9321-1777831200-1777834800@efcsidney.org
SUMMARY:Prayer Time
DESCRIPTION:
URL:https://efcsidney.org/event/prayer-time-40/2026-05-03/
LOCATION:Church Library
END:VEVENT
BEGIN:VEVENT
DTSTART;TZID=America/Denver:20260504T173000
DTEND;TZID=America/Denver:20260504T203000
DTSTAMP:20260421T061700
CREATED:20250911T164032Z
LAST-MODIFIED:20250911T164032Z
UID:9386-1777915800-1777926600@efcsidney.org
SUMMARY:Celebrate Recovery
DESCRIPTION:Celebrate Recovery – A Place for Healing and Hope \nJoin us for a free-will dinner and a powerful evening of community\, worship\, and healing. Celebrate Recovery is a Christ-centered recovery ministry for anyone dealing with hurts\, habits\, or hang-ups – and it’s open to everyone.
URL:https://efcsidney.org/event/celebrate-recovery/2026-05-04/
END:VEVENT
BEGIN:VEVENT
DTSTART;TZID=America/Denver:20260510T100000
DTEND;TZID=America/Denver:20260510T113000
DTSTAMP:20260421T061700
CREATED:20250521T174855Z
LAST-MODIFIED:20260311T231435Z
UID:9455-1778407200-1778412600@efcsidney.org
SUMMARY:Worship Service
DESCRIPTION:
URL:https://efcsidney.org/event/worship-service-3/2026-05-10/
LOCATION:Evangelical Free Church of Sidney
END:VEVENT
BEGIN:VEVENT
DTSTART;TZID=America/Denver:20260511T173000
DTEND;TZID=America/Denver:20260511T203000
DTSTAMP:20260421T061700
CREATED:20250911T164032Z
LAST-MODIFIED:20250911T164032Z
UID:9387-1778520600-1778531400@efcsidney.org
SUMMARY:Celebrate Recovery
DESCRIPTION:Celebrate Recovery – A Place for Healing and Hope \nJoin us for a free-will dinner and a powerful evening of community\, worship\, and healing. Celebrate Recovery is a Christ-centered recovery ministry for anyone dealing with hurts\, habits\, or hang-ups – and it’s open to everyone.
URL:https://efcsidney.org/event/celebrate-recovery/2026-05-11/
END:VEVENT
BEGIN:VEVENT
DTSTART;TZID=America/Denver:20260517T100000
DTEND;TZID=America/Denver:20260517T113000
DTSTAMP:20260421T061700
CREATED:20250521T174855Z
LAST-MODIFIED:20260311T231436Z
UID:9456-1779012000-1779017400@efcsidney.org
SUMMARY:Worship Service
DESCRIPTION:
URL:https://efcsidney.org/event/worship-service-3/2026-05-17/
LOCATION:Evangelical Free Church of Sidney
END:VEVENT
BEGIN:VEVENT
DTSTART;TZID=America/Denver:20260517T180000
DTEND;TZID=America/Denver:20260517T190000
DTSTAMP:20260421T061700
CREATED:20260106T210749Z
LAST-MODIFIED:20260311T231756Z
UID:9322-1779040800-1779044400@efcsidney.org
SUMMARY:Prayer Time
DESCRIPTION:
URL:https://efcsidney.org/event/prayer-time-40/2026-05-17/
LOCATION:Church Library
END:VEVENT
BEGIN:VEVENT
DTSTART;TZID=America/Denver:20260518T173000
DTEND;TZID=America/Denver:20260518T203000
DTSTAMP:20260421T061700
CREATED:20250911T164032Z
LAST-MODIFIED:20250911T164032Z
UID:9388-1779125400-1779136200@efcsidney.org
SUMMARY:Celebrate Recovery
DESCRIPTION:Celebrate Recovery – A Place for Healing and Hope \nJoin us for a free-will dinner and a powerful evening of community\, worship\, and healing. Celebrate Recovery is a Christ-centered recovery ministry for anyone dealing with hurts\, habits\, or hang-ups – and it’s open to everyone.
URL:https://efcsidney.org/event/celebrate-recovery/2026-05-18/
END:VEVENT
BEGIN:VEVENT
DTSTART;TZID=America/Denver:20260524T100000
DTEND;TZID=America/Denver:20260524T113000
DTSTAMP:20260421T061700
CREATED:20250521T174855Z
LAST-MODIFIED:20260311T231436Z
UID:9457-1779616800-1779622200@efcsidney.org
SUMMARY:Worship Service
DESCRIPTION:
URL:https://efcsidney.org/event/worship-service-3/2026-05-24/
LOCATION:Evangelical Free Church of Sidney
END:VEVENT
BEGIN:VEVENT
DTSTART;TZID=America/Denver:20260524T180000
DTEND;TZID=America/Denver:20260524T190000
DTSTAMP:20260421T061700
CREATED:20260106T210749Z
LAST-MODIFIED:20260311T231756Z
UID:9323-1779645600-1779649200@efcsidney.org
SUMMARY:Prayer Time
DESCRIPTION:
URL:https://efcsidney.org/event/prayer-time-40/2026-05-24/
LOCATION:Church Library
END:VEVENT
BEGIN:VEVENT
DTSTART;TZID=America/Denver:20260525T173000
DTEND;TZID=America/Denver:20260525T203000
DTSTAMP:20260421T061700
CREATED:20250911T164032Z
LAST-MODIFIED:20250911T164032Z
UID:9389-1779730200-1779741000@efcsidney.org
SUMMARY:Celebrate Recovery
DESCRIPTION:Celebrate Recovery – A Place for Healing and Hope \nJoin us for a free-will dinner and a powerful evening of community\, worship\, and healing. Celebrate Recovery is a Christ-centered recovery ministry for anyone dealing with hurts\, habits\, or hang-ups – and it’s open to everyone.
URL:https://efcsidney.org/event/celebrate-recovery/2026-05-25/
END:VEVENT
BEGIN:VEVENT
DTSTART;TZID=America/Denver:20260531T100000
DTEND;TZID=America/Denver:20260531T113000
DTSTAMP:20260421T061700
CREATED:20250521T174855Z
LAST-MODIFIED:20260311T231436Z
UID:9458-1780221600-1780227000@efcsidney.org
SUMMARY:Worship Service
DESCRIPTION:
URL:https://efcsidney.org/event/worship-service-3/2026-05-31/
LOCATION:Evangelical Free Church of Sidney
END:VEVENT
BEGIN:VEVENT
DTSTART;TZID=America/Denver:20260531T180000
DTEND;TZID=America/Denver:20260531T190000
DTSTAMP:20260421T061700
CREATED:20260106T210749Z
LAST-MODIFIED:20260311T231756Z
UID:9324-1780250400-1780254000@efcsidney.org
SUMMARY:Prayer Time
DESCRIPTION:
URL:https://efcsidney.org/event/prayer-time-40/2026-05-31/
LOCATION:Church Library
END:VEVENT
END:VCALENDAR