BEGIN:VCALENDAR
VERSION:2.0
PRODID:-//Sidney Evangelical Free Church - ECPv6.15.20//NONSGML v1.0//EN
CALSCALE:GREGORIAN
METHOD:PUBLISH
X-ORIGINAL-URL:https://efcsidney.org
X-WR-CALDESC:Events for Sidney Evangelical Free Church
REFRESH-INTERVAL;VALUE=DURATION:PT1H
X-Robots-Tag:noindex
X-PUBLISHED-TTL:PT1H
BEGIN:VTIMEZONE
TZID:America/Denver
BEGIN:DAYLIGHT
TZOFFSETFROM:-0700
TZOFFSETTO:-0600
TZNAME:MDT
DTSTART:20250309T090000
END:DAYLIGHT
BEGIN:STANDARD
TZOFFSETFROM:-0600
TZOFFSETTO:-0700
TZNAME:MST
DTSTART:20251102T080000
END:STANDARD
BEGIN:DAYLIGHT
TZOFFSETFROM:-0700
TZOFFSETTO:-0600
TZNAME:MDT
DTSTART:20260308T090000
END:DAYLIGHT
BEGIN:STANDARD
TZOFFSETFROM:-0600
TZOFFSETTO:-0700
TZNAME:MST
DTSTART:20261101T080000
END:STANDARD
BEGIN:DAYLIGHT
TZOFFSETFROM:-0700
TZOFFSETTO:-0600
TZNAME:MDT
DTSTART:20270314T090000
END:DAYLIGHT
BEGIN:STANDARD
TZOFFSETFROM:-0600
TZOFFSETTO:-0700
TZNAME:MST
DTSTART:20271107T080000
END:STANDARD
END:VTIMEZONE
BEGIN:VEVENT
DTSTART;TZID=America/Denver:20260601T173000
DTEND;TZID=America/Denver:20260601T203000
DTSTAMP:20260421T075510
CREATED:20250911T164032Z
LAST-MODIFIED:20250911T164032Z
UID:9390-1780335000-1780345800@efcsidney.org
SUMMARY:Celebrate Recovery
DESCRIPTION:Celebrate Recovery – A Place for Healing and Hope \nJoin us for a free-will dinner and a powerful evening of community\, worship\, and healing. Celebrate Recovery is a Christ-centered recovery ministry for anyone dealing with hurts\, habits\, or hang-ups – and it’s open to everyone.
URL:https://efcsidney.org/event/celebrate-recovery/2026-06-01/
END:VEVENT
BEGIN:VEVENT
DTSTART;TZID=America/Denver:20260607T100000
DTEND;TZID=America/Denver:20260607T113000
DTSTAMP:20260421T075510
CREATED:20250521T174855Z
LAST-MODIFIED:20260311T231436Z
UID:9459-1780826400-1780831800@efcsidney.org
SUMMARY:Worship Service
DESCRIPTION:
URL:https://efcsidney.org/event/worship-service-3/2026-06-07/
LOCATION:Evangelical Free Church of Sidney
END:VEVENT
BEGIN:VEVENT
DTSTART;TZID=America/Denver:20260607T180000
DTEND;TZID=America/Denver:20260607T190000
DTSTAMP:20260421T075510
CREATED:20260106T210749Z
LAST-MODIFIED:20260311T231756Z
UID:9325-1780855200-1780858800@efcsidney.org
SUMMARY:Prayer Time
DESCRIPTION:
URL:https://efcsidney.org/event/prayer-time-40/2026-06-07/
LOCATION:Church Library
END:VEVENT
BEGIN:VEVENT
DTSTART;TZID=America/Denver:20260608T173000
DTEND;TZID=America/Denver:20260608T203000
DTSTAMP:20260421T075510
CREATED:20250911T164032Z
LAST-MODIFIED:20250911T164032Z
UID:9391-1780939800-1780950600@efcsidney.org
SUMMARY:Celebrate Recovery
DESCRIPTION:Celebrate Recovery – A Place for Healing and Hope \nJoin us for a free-will dinner and a powerful evening of community\, worship\, and healing. Celebrate Recovery is a Christ-centered recovery ministry for anyone dealing with hurts\, habits\, or hang-ups – and it’s open to everyone.
URL:https://efcsidney.org/event/celebrate-recovery/2026-06-08/
END:VEVENT
BEGIN:VEVENT
DTSTART;TZID=America/Denver:20260614T100000
DTEND;TZID=America/Denver:20260614T113000
DTSTAMP:20260421T075510
CREATED:20250521T174855Z
LAST-MODIFIED:20260311T231437Z
UID:9460-1781431200-1781436600@efcsidney.org
SUMMARY:Worship Service
DESCRIPTION:
URL:https://efcsidney.org/event/worship-service-3/2026-06-14/
LOCATION:Evangelical Free Church of Sidney
END:VEVENT
BEGIN:VEVENT
DTSTART;TZID=America/Denver:20260614T180000
DTEND;TZID=America/Denver:20260614T190000
DTSTAMP:20260421T075510
CREATED:20260106T210749Z
LAST-MODIFIED:20260311T231756Z
UID:9326-1781460000-1781463600@efcsidney.org
SUMMARY:Prayer Time
DESCRIPTION:
URL:https://efcsidney.org/event/prayer-time-40/2026-06-14/
LOCATION:Church Library
END:VEVENT
BEGIN:VEVENT
DTSTART;TZID=America/Denver:20260615T173000
DTEND;TZID=America/Denver:20260615T203000
DTSTAMP:20260421T075510
CREATED:20250911T164032Z
LAST-MODIFIED:20250911T164032Z
UID:9392-1781544600-1781555400@efcsidney.org
SUMMARY:Celebrate Recovery
DESCRIPTION:Celebrate Recovery – A Place for Healing and Hope \nJoin us for a free-will dinner and a powerful evening of community\, worship\, and healing. Celebrate Recovery is a Christ-centered recovery ministry for anyone dealing with hurts\, habits\, or hang-ups – and it’s open to everyone.
URL:https://efcsidney.org/event/celebrate-recovery/2026-06-15/
END:VEVENT
BEGIN:VEVENT
DTSTART;TZID=America/Denver:20260621T100000
DTEND;TZID=America/Denver:20260621T113000
DTSTAMP:20260421T075510
CREATED:20250521T174855Z
LAST-MODIFIED:20260311T231437Z
UID:9461-1782036000-1782041400@efcsidney.org
SUMMARY:Worship Service
DESCRIPTION:
URL:https://efcsidney.org/event/worship-service-3/2026-06-21/
LOCATION:Evangelical Free Church of Sidney
END:VEVENT
BEGIN:VEVENT
DTSTART;TZID=America/Denver:20260621T180000
DTEND;TZID=America/Denver:20260621T190000
DTSTAMP:20260421T075510
CREATED:20260106T210749Z
LAST-MODIFIED:20260311T231757Z
UID:9327-1782064800-1782068400@efcsidney.org
SUMMARY:Prayer Time
DESCRIPTION:
URL:https://efcsidney.org/event/prayer-time-40/2026-06-21/
LOCATION:Church Library
END:VEVENT
BEGIN:VEVENT
DTSTART;TZID=America/Denver:20260622T173000
DTEND;TZID=America/Denver:20260622T203000
DTSTAMP:20260421T075510
CREATED:20250911T164032Z
LAST-MODIFIED:20250911T164032Z
UID:9393-1782149400-1782160200@efcsidney.org
SUMMARY:Celebrate Recovery
DESCRIPTION:Celebrate Recovery – A Place for Healing and Hope \nJoin us for a free-will dinner and a powerful evening of community\, worship\, and healing. Celebrate Recovery is a Christ-centered recovery ministry for anyone dealing with hurts\, habits\, or hang-ups – and it’s open to everyone.
URL:https://efcsidney.org/event/celebrate-recovery/2026-06-22/
END:VEVENT
BEGIN:VEVENT
DTSTART;TZID=America/Denver:20260628T100000
DTEND;TZID=America/Denver:20260628T113000
DTSTAMP:20260421T075510
CREATED:20250521T174855Z
LAST-MODIFIED:20260311T231437Z
UID:9462-1782640800-1782646200@efcsidney.org
SUMMARY:Worship Service
DESCRIPTION:
URL:https://efcsidney.org/event/worship-service-3/2026-06-28/
LOCATION:Evangelical Free Church of Sidney
END:VEVENT
BEGIN:VEVENT
DTSTART;TZID=America/Denver:20260628T180000
DTEND;TZID=America/Denver:20260628T190000
DTSTAMP:20260421T075510
CREATED:20260106T210749Z
LAST-MODIFIED:20260311T231758Z
UID:9328-1782669600-1782673200@efcsidney.org
SUMMARY:Prayer Time
DESCRIPTION:
URL:https://efcsidney.org/event/prayer-time-40/2026-06-28/
LOCATION:Church Library
END:VEVENT
BEGIN:VEVENT
DTSTART;TZID=America/Denver:20260629T173000
DTEND;TZID=America/Denver:20260629T203000
DTSTAMP:20260421T075510
CREATED:20250911T164032Z
LAST-MODIFIED:20250911T164032Z
UID:9394-1782754200-1782765000@efcsidney.org
SUMMARY:Celebrate Recovery
DESCRIPTION:Celebrate Recovery – A Place for Healing and Hope \nJoin us for a free-will dinner and a powerful evening of community\, worship\, and healing. Celebrate Recovery is a Christ-centered recovery ministry for anyone dealing with hurts\, habits\, or hang-ups – and it’s open to everyone.
URL:https://efcsidney.org/event/celebrate-recovery/2026-06-29/
END:VEVENT
END:VCALENDAR