BEGIN:VCALENDAR
VERSION:2.0
PRODID:-//Sidney Evangelical Free Church - ECPv6.15.20//NONSGML v1.0//EN
CALSCALE:GREGORIAN
METHOD:PUBLISH
X-ORIGINAL-URL:https://efcsidney.org
X-WR-CALDESC:Events for Sidney Evangelical Free Church
REFRESH-INTERVAL;VALUE=DURATION:PT1H
X-Robots-Tag:noindex
X-PUBLISHED-TTL:PT1H
BEGIN:VTIMEZONE
TZID:America/Denver
BEGIN:DAYLIGHT
TZOFFSETFROM:-0700
TZOFFSETTO:-0600
TZNAME:MDT
DTSTART:20250309T090000
END:DAYLIGHT
BEGIN:STANDARD
TZOFFSETFROM:-0600
TZOFFSETTO:-0700
TZNAME:MST
DTSTART:20251102T080000
END:STANDARD
BEGIN:DAYLIGHT
TZOFFSETFROM:-0700
TZOFFSETTO:-0600
TZNAME:MDT
DTSTART:20260308T090000
END:DAYLIGHT
BEGIN:STANDARD
TZOFFSETFROM:-0600
TZOFFSETTO:-0700
TZNAME:MST
DTSTART:20261101T080000
END:STANDARD
BEGIN:DAYLIGHT
TZOFFSETFROM:-0700
TZOFFSETTO:-0600
TZNAME:MDT
DTSTART:20270314T090000
END:DAYLIGHT
BEGIN:STANDARD
TZOFFSETFROM:-0600
TZOFFSETTO:-0700
TZNAME:MST
DTSTART:20271107T080000
END:STANDARD
END:VTIMEZONE
BEGIN:VEVENT
DTSTART;TZID=America/Denver:20260802T100000
DTEND;TZID=America/Denver:20260802T113000
DTSTAMP:20260421T110512
CREATED:20250521T174855Z
LAST-MODIFIED:20250521T174855Z
UID:9467-1785664800-1785670200@efcsidney.org
SUMMARY:Worship Service
DESCRIPTION:
URL:https://efcsidney.org/event/worship-service-3/2026-08-02/
LOCATION:Evangelical Free Church of Sidney
END:VEVENT
BEGIN:VEVENT
DTSTART;TZID=America/Denver:20260802T180000
DTEND;TZID=America/Denver:20260802T190000
DTSTAMP:20260421T110512
CREATED:20260106T210749Z
LAST-MODIFIED:20260311T231758Z
UID:9333-1785693600-1785697200@efcsidney.org
SUMMARY:Prayer Time
DESCRIPTION:
URL:https://efcsidney.org/event/prayer-time-40/2026-08-02/
LOCATION:Church Library
END:VEVENT
BEGIN:VEVENT
DTSTART;TZID=America/Denver:20260803T173000
DTEND;TZID=America/Denver:20260803T203000
DTSTAMP:20260421T110512
CREATED:20250911T164032Z
LAST-MODIFIED:20250911T164032Z
UID:9399-1785778200-1785789000@efcsidney.org
SUMMARY:Celebrate Recovery
DESCRIPTION:Celebrate Recovery – A Place for Healing and Hope \nJoin us for a free-will dinner and a powerful evening of community\, worship\, and healing. Celebrate Recovery is a Christ-centered recovery ministry for anyone dealing with hurts\, habits\, or hang-ups – and it’s open to everyone.
URL:https://efcsidney.org/event/celebrate-recovery/2026-08-03/
END:VEVENT
BEGIN:VEVENT
DTSTART;TZID=America/Denver:20260809T100000
DTEND;TZID=America/Denver:20260809T113000
DTSTAMP:20260421T110512
CREATED:20250521T174855Z
LAST-MODIFIED:20250521T174855Z
UID:9468-1786269600-1786275000@efcsidney.org
SUMMARY:Worship Service
DESCRIPTION:
URL:https://efcsidney.org/event/worship-service-3/2026-08-09/
LOCATION:Evangelical Free Church of Sidney
END:VEVENT
BEGIN:VEVENT
DTSTART;TZID=America/Denver:20260809T180000
DTEND;TZID=America/Denver:20260809T190000
DTSTAMP:20260421T110512
CREATED:20260106T210749Z
LAST-MODIFIED:20260311T231758Z
UID:9334-1786298400-1786302000@efcsidney.org
SUMMARY:Prayer Time
DESCRIPTION:
URL:https://efcsidney.org/event/prayer-time-40/2026-08-09/
LOCATION:Church Library
END:VEVENT
BEGIN:VEVENT
DTSTART;TZID=America/Denver:20260810T173000
DTEND;TZID=America/Denver:20260810T203000
DTSTAMP:20260421T110512
CREATED:20250911T164032Z
LAST-MODIFIED:20250911T164032Z
UID:9400-1786383000-1786393800@efcsidney.org
SUMMARY:Celebrate Recovery
DESCRIPTION:Celebrate Recovery – A Place for Healing and Hope \nJoin us for a free-will dinner and a powerful evening of community\, worship\, and healing. Celebrate Recovery is a Christ-centered recovery ministry for anyone dealing with hurts\, habits\, or hang-ups – and it’s open to everyone.
URL:https://efcsidney.org/event/celebrate-recovery/2026-08-10/
END:VEVENT
BEGIN:VEVENT
DTSTART;TZID=America/Denver:20260816T100000
DTEND;TZID=America/Denver:20260816T113000
DTSTAMP:20260421T110512
CREATED:20250521T174855Z
LAST-MODIFIED:20250521T174855Z
UID:9469-1786874400-1786879800@efcsidney.org
SUMMARY:Worship Service
DESCRIPTION:
URL:https://efcsidney.org/event/worship-service-3/2026-08-16/
LOCATION:Evangelical Free Church of Sidney
END:VEVENT
BEGIN:VEVENT
DTSTART;TZID=America/Denver:20260816T180000
DTEND;TZID=America/Denver:20260816T190000
DTSTAMP:20260421T110512
CREATED:20260106T210749Z
LAST-MODIFIED:20260311T231758Z
UID:9335-1786903200-1786906800@efcsidney.org
SUMMARY:Prayer Time
DESCRIPTION:
URL:https://efcsidney.org/event/prayer-time-40/2026-08-16/
LOCATION:Church Library
END:VEVENT
BEGIN:VEVENT
DTSTART;TZID=America/Denver:20260817T173000
DTEND;TZID=America/Denver:20260817T203000
DTSTAMP:20260421T110512
CREATED:20250911T164032Z
LAST-MODIFIED:20250911T164032Z
UID:9401-1786987800-1786998600@efcsidney.org
SUMMARY:Celebrate Recovery
DESCRIPTION:Celebrate Recovery – A Place for Healing and Hope \nJoin us for a free-will dinner and a powerful evening of community\, worship\, and healing. Celebrate Recovery is a Christ-centered recovery ministry for anyone dealing with hurts\, habits\, or hang-ups – and it’s open to everyone.
URL:https://efcsidney.org/event/celebrate-recovery/2026-08-17/
END:VEVENT
BEGIN:VEVENT
DTSTART;TZID=America/Denver:20260823T100000
DTEND;TZID=America/Denver:20260823T113000
DTSTAMP:20260421T110512
CREATED:20250521T174855Z
LAST-MODIFIED:20250521T174855Z
UID:9470-1787479200-1787484600@efcsidney.org
SUMMARY:Worship Service
DESCRIPTION:
URL:https://efcsidney.org/event/worship-service-3/2026-08-23/
LOCATION:Evangelical Free Church of Sidney
END:VEVENT
BEGIN:VEVENT
DTSTART;TZID=America/Denver:20260823T180000
DTEND;TZID=America/Denver:20260823T190000
DTSTAMP:20260421T110512
CREATED:20260106T210749Z
LAST-MODIFIED:20260311T231758Z
UID:9336-1787508000-1787511600@efcsidney.org
SUMMARY:Prayer Time
DESCRIPTION:
URL:https://efcsidney.org/event/prayer-time-40/2026-08-23/
LOCATION:Church Library
END:VEVENT
BEGIN:VEVENT
DTSTART;TZID=America/Denver:20260824T173000
DTEND;TZID=America/Denver:20260824T203000
DTSTAMP:20260421T110512
CREATED:20250911T164032Z
LAST-MODIFIED:20250911T164032Z
UID:9402-1787592600-1787603400@efcsidney.org
SUMMARY:Celebrate Recovery
DESCRIPTION:Celebrate Recovery – A Place for Healing and Hope \nJoin us for a free-will dinner and a powerful evening of community\, worship\, and healing. Celebrate Recovery is a Christ-centered recovery ministry for anyone dealing with hurts\, habits\, or hang-ups – and it’s open to everyone.
URL:https://efcsidney.org/event/celebrate-recovery/2026-08-24/
END:VEVENT
BEGIN:VEVENT
DTSTART;TZID=America/Denver:20260830T100000
DTEND;TZID=America/Denver:20260830T113000
DTSTAMP:20260421T110512
CREATED:20250521T174855Z
LAST-MODIFIED:20250521T174855Z
UID:9471-1788084000-1788089400@efcsidney.org
SUMMARY:Worship Service
DESCRIPTION:
URL:https://efcsidney.org/event/worship-service-3/2026-08-30/
LOCATION:Evangelical Free Church of Sidney
END:VEVENT
BEGIN:VEVENT
DTSTART;TZID=America/Denver:20260830T180000
DTEND;TZID=America/Denver:20260830T190000
DTSTAMP:20260421T110512
CREATED:20260106T210749Z
LAST-MODIFIED:20260106T210749Z
UID:9337-1788112800-1788116400@efcsidney.org
SUMMARY:Prayer Time
DESCRIPTION:
URL:https://efcsidney.org/event/prayer-time-40/2026-08-30/
LOCATION:Church Library
END:VEVENT
BEGIN:VEVENT
DTSTART;TZID=America/Denver:20260831T173000
DTEND;TZID=America/Denver:20260831T203000
DTSTAMP:20260421T110512
CREATED:20250911T164032Z
LAST-MODIFIED:20250911T164032Z
UID:9403-1788197400-1788208200@efcsidney.org
SUMMARY:Celebrate Recovery
DESCRIPTION:Celebrate Recovery – A Place for Healing and Hope \nJoin us for a free-will dinner and a powerful evening of community\, worship\, and healing. Celebrate Recovery is a Christ-centered recovery ministry for anyone dealing with hurts\, habits\, or hang-ups – and it’s open to everyone.
URL:https://efcsidney.org/event/celebrate-recovery/2026-08-31/
END:VEVENT
END:VCALENDAR