BEGIN:VCALENDAR
VERSION:2.0
PRODID:-//Sidney Evangelical Free Church - ECPv6.15.20//NONSGML v1.0//EN
CALSCALE:GREGORIAN
METHOD:PUBLISH
X-WR-CALNAME:Sidney Evangelical Free Church
X-ORIGINAL-URL:https://efcsidney.org
X-WR-CALDESC:Events for Sidney Evangelical Free Church
REFRESH-INTERVAL;VALUE=DURATION:PT1H
X-Robots-Tag:noindex
X-PUBLISHED-TTL:PT1H
BEGIN:VTIMEZONE
TZID:America/Denver
BEGIN:DAYLIGHT
TZOFFSETFROM:-0700
TZOFFSETTO:-0600
TZNAME:MDT
DTSTART:20250309T090000
END:DAYLIGHT
BEGIN:STANDARD
TZOFFSETFROM:-0600
TZOFFSETTO:-0700
TZNAME:MST
DTSTART:20251102T080000
END:STANDARD
BEGIN:DAYLIGHT
TZOFFSETFROM:-0700
TZOFFSETTO:-0600
TZNAME:MDT
DTSTART:20260308T090000
END:DAYLIGHT
BEGIN:STANDARD
TZOFFSETFROM:-0600
TZOFFSETTO:-0700
TZNAME:MST
DTSTART:20261101T080000
END:STANDARD
BEGIN:DAYLIGHT
TZOFFSETFROM:-0700
TZOFFSETTO:-0600
TZNAME:MDT
DTSTART:20270314T090000
END:DAYLIGHT
BEGIN:STANDARD
TZOFFSETFROM:-0600
TZOFFSETTO:-0700
TZNAME:MST
DTSTART:20271107T080000
END:STANDARD
END:VTIMEZONE
BEGIN:VEVENT
DTSTART;TZID=America/Denver:20260906T100000
DTEND;TZID=America/Denver:20260906T113000
DTSTAMP:20260421T124549
CREATED:20250521T174855Z
LAST-MODIFIED:20250521T174855Z
UID:9472-1788688800-1788694200@efcsidney.org
SUMMARY:Worship Service
DESCRIPTION:
URL:https://efcsidney.org/event/worship-service-3/2026-09-06/
LOCATION:Evangelical Free Church of Sidney
END:VEVENT
BEGIN:VEVENT
DTSTART;TZID=America/Denver:20260906T180000
DTEND;TZID=America/Denver:20260906T190000
DTSTAMP:20260421T124549
CREATED:20260106T210749Z
LAST-MODIFIED:20260106T210749Z
UID:9338-1788717600-1788721200@efcsidney.org
SUMMARY:Prayer Time
DESCRIPTION:
URL:https://efcsidney.org/event/prayer-time-40/2026-09-06/
LOCATION:Church Library
END:VEVENT
BEGIN:VEVENT
DTSTART;TZID=America/Denver:20260907T173000
DTEND;TZID=America/Denver:20260907T203000
DTSTAMP:20260421T124549
CREATED:20250911T164032Z
LAST-MODIFIED:20250911T164032Z
UID:9404-1788802200-1788813000@efcsidney.org
SUMMARY:Celebrate Recovery
DESCRIPTION:Celebrate Recovery – A Place for Healing and Hope \nJoin us for a free-will dinner and a powerful evening of community\, worship\, and healing. Celebrate Recovery is a Christ-centered recovery ministry for anyone dealing with hurts\, habits\, or hang-ups – and it’s open to everyone.
URL:https://efcsidney.org/event/celebrate-recovery/2026-09-07/
END:VEVENT
BEGIN:VEVENT
DTSTART;TZID=America/Denver:20260913T100000
DTEND;TZID=America/Denver:20260913T113000
DTSTAMP:20260421T124549
CREATED:20250521T174855Z
LAST-MODIFIED:20250521T174855Z
UID:9473-1789293600-1789299000@efcsidney.org
SUMMARY:Worship Service
DESCRIPTION:
URL:https://efcsidney.org/event/worship-service-3/2026-09-13/
LOCATION:Evangelical Free Church of Sidney
END:VEVENT
BEGIN:VEVENT
DTSTART;TZID=America/Denver:20260913T180000
DTEND;TZID=America/Denver:20260913T190000
DTSTAMP:20260421T124549
CREATED:20260106T210749Z
LAST-MODIFIED:20260106T210749Z
UID:9339-1789322400-1789326000@efcsidney.org
SUMMARY:Prayer Time
DESCRIPTION:
URL:https://efcsidney.org/event/prayer-time-40/2026-09-13/
LOCATION:Church Library
END:VEVENT
BEGIN:VEVENT
DTSTART;TZID=America/Denver:20260914T173000
DTEND;TZID=America/Denver:20260914T203000
DTSTAMP:20260421T124549
CREATED:20250911T164032Z
LAST-MODIFIED:20250911T164032Z
UID:9405-1789407000-1789417800@efcsidney.org
SUMMARY:Celebrate Recovery
DESCRIPTION:Celebrate Recovery – A Place for Healing and Hope \nJoin us for a free-will dinner and a powerful evening of community\, worship\, and healing. Celebrate Recovery is a Christ-centered recovery ministry for anyone dealing with hurts\, habits\, or hang-ups – and it’s open to everyone.
URL:https://efcsidney.org/event/celebrate-recovery/2026-09-14/
END:VEVENT
BEGIN:VEVENT
DTSTART;TZID=America/Denver:20260920T100000
DTEND;TZID=America/Denver:20260920T113000
DTSTAMP:20260421T124549
CREATED:20250521T174855Z
LAST-MODIFIED:20250521T174855Z
UID:9474-1789898400-1789903800@efcsidney.org
SUMMARY:Worship Service
DESCRIPTION:
URL:https://efcsidney.org/event/worship-service-3/2026-09-20/
LOCATION:Evangelical Free Church of Sidney
END:VEVENT
BEGIN:VEVENT
DTSTART;TZID=America/Denver:20260920T180000
DTEND;TZID=America/Denver:20260920T190000
DTSTAMP:20260421T124549
CREATED:20260106T210749Z
LAST-MODIFIED:20260106T210749Z
UID:9340-1789927200-1789930800@efcsidney.org
SUMMARY:Prayer Time
DESCRIPTION:
URL:https://efcsidney.org/event/prayer-time-40/2026-09-20/
LOCATION:Church Library
END:VEVENT
BEGIN:VEVENT
DTSTART;TZID=America/Denver:20260921T173000
DTEND;TZID=America/Denver:20260921T203000
DTSTAMP:20260421T124549
CREATED:20250911T164032Z
LAST-MODIFIED:20250911T164032Z
UID:9406-1790011800-1790022600@efcsidney.org
SUMMARY:Celebrate Recovery
DESCRIPTION:Celebrate Recovery – A Place for Healing and Hope \nJoin us for a free-will dinner and a powerful evening of community\, worship\, and healing. Celebrate Recovery is a Christ-centered recovery ministry for anyone dealing with hurts\, habits\, or hang-ups – and it’s open to everyone.
URL:https://efcsidney.org/event/celebrate-recovery/2026-09-21/
END:VEVENT
BEGIN:VEVENT
DTSTART;TZID=America/Denver:20260927T100000
DTEND;TZID=America/Denver:20260927T113000
DTSTAMP:20260421T124549
CREATED:20250521T174855Z
LAST-MODIFIED:20250521T174855Z
UID:9475-1790503200-1790508600@efcsidney.org
SUMMARY:Worship Service
DESCRIPTION:
URL:https://efcsidney.org/event/worship-service-3/2026-09-27/
LOCATION:Evangelical Free Church of Sidney
END:VEVENT
BEGIN:VEVENT
DTSTART;TZID=America/Denver:20260927T180000
DTEND;TZID=America/Denver:20260927T190000
DTSTAMP:20260421T124549
CREATED:20260106T210749Z
LAST-MODIFIED:20260106T210749Z
UID:9341-1790532000-1790535600@efcsidney.org
SUMMARY:Prayer Time
DESCRIPTION:
URL:https://efcsidney.org/event/prayer-time-40/2026-09-27/
LOCATION:Church Library
END:VEVENT
BEGIN:VEVENT
DTSTART;TZID=America/Denver:20260928T173000
DTEND;TZID=America/Denver:20260928T203000
DTSTAMP:20260421T124549
CREATED:20250911T164032Z
LAST-MODIFIED:20250911T164032Z
UID:9407-1790616600-1790627400@efcsidney.org
SUMMARY:Celebrate Recovery
DESCRIPTION:Celebrate Recovery – A Place for Healing and Hope \nJoin us for a free-will dinner and a powerful evening of community\, worship\, and healing. Celebrate Recovery is a Christ-centered recovery ministry for anyone dealing with hurts\, habits\, or hang-ups – and it’s open to everyone.
URL:https://efcsidney.org/event/celebrate-recovery/2026-09-28/
END:VEVENT
END:VCALENDAR