BEGIN:VCALENDAR
VERSION:2.0
PRODID:-//Sidney Evangelical Free Church - ECPv6.15.20//NONSGML v1.0//EN
CALSCALE:GREGORIAN
METHOD:PUBLISH
X-WR-CALNAME:Sidney Evangelical Free Church
X-ORIGINAL-URL:https://efcsidney.org
X-WR-CALDESC:Events for Sidney Evangelical Free Church
REFRESH-INTERVAL;VALUE=DURATION:PT1H
X-Robots-Tag:noindex
X-PUBLISHED-TTL:PT1H
BEGIN:VTIMEZONE
TZID:America/Denver
BEGIN:DAYLIGHT
TZOFFSETFROM:-0700
TZOFFSETTO:-0600
TZNAME:MDT
DTSTART:20250309T090000
END:DAYLIGHT
BEGIN:STANDARD
TZOFFSETFROM:-0600
TZOFFSETTO:-0700
TZNAME:MST
DTSTART:20251102T080000
END:STANDARD
BEGIN:DAYLIGHT
TZOFFSETFROM:-0700
TZOFFSETTO:-0600
TZNAME:MDT
DTSTART:20260308T090000
END:DAYLIGHT
BEGIN:STANDARD
TZOFFSETFROM:-0600
TZOFFSETTO:-0700
TZNAME:MST
DTSTART:20261101T080000
END:STANDARD
BEGIN:DAYLIGHT
TZOFFSETFROM:-0700
TZOFFSETTO:-0600
TZNAME:MDT
DTSTART:20270314T090000
END:DAYLIGHT
BEGIN:STANDARD
TZOFFSETFROM:-0600
TZOFFSETTO:-0700
TZNAME:MST
DTSTART:20271107T080000
END:STANDARD
END:VTIMEZONE
BEGIN:VEVENT
DTSTART;TZID=America/Denver:20261004T100000
DTEND;TZID=America/Denver:20261004T113000
DTSTAMP:20260421T142847
CREATED:20250521T174855Z
LAST-MODIFIED:20250521T174855Z
UID:9476-1791108000-1791113400@efcsidney.org
SUMMARY:Worship Service
DESCRIPTION:
URL:https://efcsidney.org/event/worship-service-3/2026-10-04/
LOCATION:Evangelical Free Church of Sidney
END:VEVENT
BEGIN:VEVENT
DTSTART;TZID=America/Denver:20261004T180000
DTEND;TZID=America/Denver:20261004T190000
DTSTAMP:20260421T142847
CREATED:20260106T210749Z
LAST-MODIFIED:20260106T210749Z
UID:9342-1791136800-1791140400@efcsidney.org
SUMMARY:Prayer Time
DESCRIPTION:
URL:https://efcsidney.org/event/prayer-time-40/2026-10-04/
LOCATION:Church Library
END:VEVENT
BEGIN:VEVENT
DTSTART;TZID=America/Denver:20261005T173000
DTEND;TZID=America/Denver:20261005T203000
DTSTAMP:20260421T142847
CREATED:20250911T164032Z
LAST-MODIFIED:20250911T164032Z
UID:9408-1791221400-1791232200@efcsidney.org
SUMMARY:Celebrate Recovery
DESCRIPTION:Celebrate Recovery – A Place for Healing and Hope \nJoin us for a free-will dinner and a powerful evening of community\, worship\, and healing. Celebrate Recovery is a Christ-centered recovery ministry for anyone dealing with hurts\, habits\, or hang-ups – and it’s open to everyone.
URL:https://efcsidney.org/event/celebrate-recovery/2026-10-05/
END:VEVENT
BEGIN:VEVENT
DTSTART;TZID=America/Denver:20261011T100000
DTEND;TZID=America/Denver:20261011T113000
DTSTAMP:20260421T142847
CREATED:20250521T174855Z
LAST-MODIFIED:20250521T174855Z
UID:9477-1791712800-1791718200@efcsidney.org
SUMMARY:Worship Service
DESCRIPTION:
URL:https://efcsidney.org/event/worship-service-3/2026-10-11/
LOCATION:Evangelical Free Church of Sidney
END:VEVENT
BEGIN:VEVENT
DTSTART;TZID=America/Denver:20261011T180000
DTEND;TZID=America/Denver:20261011T190000
DTSTAMP:20260421T142847
CREATED:20260106T210749Z
LAST-MODIFIED:20260106T210749Z
UID:9343-1791741600-1791745200@efcsidney.org
SUMMARY:Prayer Time
DESCRIPTION:
URL:https://efcsidney.org/event/prayer-time-40/2026-10-11/
LOCATION:Church Library
END:VEVENT
BEGIN:VEVENT
DTSTART;TZID=America/Denver:20261012T173000
DTEND;TZID=America/Denver:20261012T203000
DTSTAMP:20260421T142847
CREATED:20250911T164032Z
LAST-MODIFIED:20250911T164032Z
UID:9409-1791826200-1791837000@efcsidney.org
SUMMARY:Celebrate Recovery
DESCRIPTION:Celebrate Recovery – A Place for Healing and Hope \nJoin us for a free-will dinner and a powerful evening of community\, worship\, and healing. Celebrate Recovery is a Christ-centered recovery ministry for anyone dealing with hurts\, habits\, or hang-ups – and it’s open to everyone.
URL:https://efcsidney.org/event/celebrate-recovery/2026-10-12/
END:VEVENT
BEGIN:VEVENT
DTSTART;TZID=America/Denver:20261018T100000
DTEND;TZID=America/Denver:20261018T113000
DTSTAMP:20260421T142847
CREATED:20250521T174855Z
LAST-MODIFIED:20250521T174855Z
UID:9478-1792317600-1792323000@efcsidney.org
SUMMARY:Worship Service
DESCRIPTION:
URL:https://efcsidney.org/event/worship-service-3/2026-10-18/
LOCATION:Evangelical Free Church of Sidney
END:VEVENT
BEGIN:VEVENT
DTSTART;TZID=America/Denver:20261018T180000
DTEND;TZID=America/Denver:20261018T190000
DTSTAMP:20260421T142847
CREATED:20260106T210749Z
LAST-MODIFIED:20260106T210749Z
UID:9344-1792346400-1792350000@efcsidney.org
SUMMARY:Prayer Time
DESCRIPTION:
URL:https://efcsidney.org/event/prayer-time-40/2026-10-18/
LOCATION:Church Library
END:VEVENT
BEGIN:VEVENT
DTSTART;TZID=America/Denver:20261019T173000
DTEND;TZID=America/Denver:20261019T203000
DTSTAMP:20260421T142847
CREATED:20250911T164032Z
LAST-MODIFIED:20250911T164032Z
UID:9410-1792431000-1792441800@efcsidney.org
SUMMARY:Celebrate Recovery
DESCRIPTION:Celebrate Recovery – A Place for Healing and Hope \nJoin us for a free-will dinner and a powerful evening of community\, worship\, and healing. Celebrate Recovery is a Christ-centered recovery ministry for anyone dealing with hurts\, habits\, or hang-ups – and it’s open to everyone.
URL:https://efcsidney.org/event/celebrate-recovery/2026-10-19/
END:VEVENT
BEGIN:VEVENT
DTSTART;TZID=America/Denver:20261025T100000
DTEND;TZID=America/Denver:20261025T113000
DTSTAMP:20260421T142847
CREATED:20250521T174855Z
LAST-MODIFIED:20250521T174855Z
UID:9479-1792922400-1792927800@efcsidney.org
SUMMARY:Worship Service
DESCRIPTION:
URL:https://efcsidney.org/event/worship-service-3/2026-10-25/
LOCATION:Evangelical Free Church of Sidney
END:VEVENT
BEGIN:VEVENT
DTSTART;TZID=America/Denver:20261025T180000
DTEND;TZID=America/Denver:20261025T190000
DTSTAMP:20260421T142847
CREATED:20260106T210749Z
LAST-MODIFIED:20260106T210749Z
UID:9345-1792951200-1792954800@efcsidney.org
SUMMARY:Prayer Time
DESCRIPTION:
URL:https://efcsidney.org/event/prayer-time-40/2026-10-25/
LOCATION:Church Library
END:VEVENT
BEGIN:VEVENT
DTSTART;TZID=America/Denver:20261026T173000
DTEND;TZID=America/Denver:20261026T203000
DTSTAMP:20260421T142847
CREATED:20250911T164032Z
LAST-MODIFIED:20250911T164032Z
UID:9411-1793035800-1793046600@efcsidney.org
SUMMARY:Celebrate Recovery
DESCRIPTION:Celebrate Recovery – A Place for Healing and Hope \nJoin us for a free-will dinner and a powerful evening of community\, worship\, and healing. Celebrate Recovery is a Christ-centered recovery ministry for anyone dealing with hurts\, habits\, or hang-ups – and it’s open to everyone.
URL:https://efcsidney.org/event/celebrate-recovery/2026-10-26/
END:VEVENT
END:VCALENDAR