BEGIN:VCALENDAR
VERSION:2.0
PRODID:-//Sidney Evangelical Free Church - ECPv6.15.20//NONSGML v1.0//EN
CALSCALE:GREGORIAN
METHOD:PUBLISH
X-WR-CALNAME:Sidney Evangelical Free Church
X-ORIGINAL-URL:https://efcsidney.org
X-WR-CALDESC:Events for Sidney Evangelical Free Church
REFRESH-INTERVAL;VALUE=DURATION:PT1H
X-Robots-Tag:noindex
X-PUBLISHED-TTL:PT1H
BEGIN:VTIMEZONE
TZID:America/Denver
BEGIN:DAYLIGHT
TZOFFSETFROM:-0700
TZOFFSETTO:-0600
TZNAME:MDT
DTSTART:20170312T090000
END:DAYLIGHT
BEGIN:STANDARD
TZOFFSETFROM:-0600
TZOFFSETTO:-0700
TZNAME:MST
DTSTART:20171105T080000
END:STANDARD
BEGIN:DAYLIGHT
TZOFFSETFROM:-0700
TZOFFSETTO:-0600
TZNAME:MDT
DTSTART:20180311T090000
END:DAYLIGHT
BEGIN:STANDARD
TZOFFSETFROM:-0600
TZOFFSETTO:-0700
TZNAME:MST
DTSTART:20181104T080000
END:STANDARD
BEGIN:DAYLIGHT
TZOFFSETFROM:-0700
TZOFFSETTO:-0600
TZNAME:MDT
DTSTART:20190310T090000
END:DAYLIGHT
BEGIN:STANDARD
TZOFFSETFROM:-0600
TZOFFSETTO:-0700
TZNAME:MST
DTSTART:20191103T080000
END:STANDARD
END:VTIMEZONE
BEGIN:VEVENT
DTSTART;TZID=America/Denver:20180701T113000
DTEND;TZID=America/Denver:20180701T123000
DTSTAMP:20260419T152241
CREATED:20180622T174322Z
LAST-MODIFIED:20180622T174322Z
UID:3118-1530444600-1530448200@efcsidney.org
SUMMARY:Single Ladies' Lunch
DESCRIPTION:Right after church
URL:https://efcsidney.org/event/single-ladies-lunch-26/
LOCATION:IHOP
END:VEVENT
BEGIN:VEVENT
DTSTART;TZID=America/Denver:20180107T120000
DTEND;TZID=America/Denver:20180107T130000
DTSTAMP:20260419T152241
CREATED:20171212T201625Z
LAST-MODIFIED:20171212T201625Z
UID:2792-1515326400-1515330000@efcsidney.org
SUMMARY:Single Ladies' Lunch
DESCRIPTION:
URL:https://efcsidney.org/event/single-ladies-lunch-21/
LOCATION:IHOP
END:VEVENT
END:VCALENDAR